BEGIN:VCALENDAR
VERSION:2.0
PRODID:-//ChamberMaster//Event Calendar 2.0//EN
METHOD:PUBLISH
X-PUBLISHED-TTL:P3D
REFRESH-INTERVAL:P3D
CALSCALE:GREGORIAN
BEGIN:VEVENT
DTSTART:20151028T154500Z
DTEND:20151028T160000Z
X-MICROSOFT-CDO-ALLDAYEVENT:FALSE
SUMMARY:eMerge Online Marketing - Ribbon Cutting
DESCRIPTION:eMerge Online Marketing will be holding a ribbon cutting immediately following the Working With Women meeting. eMerge Online Marketing will be celebrating their new membership with the MetroNorth Chamber.\n\n\n\ne-Merge Online Marketing celebrated their move to Fridley from Oakdale and to celebrate the 5th anniversary of e-Merge Online Marketing with the MetroNorth Chamber.
X-ALT-DESC;FMTTYPE=text/html:eMerge&nbsp\;Online Marketing will be holding a ribbon cutting immediately following the Working With Women meeting. eMerge&nbsp\;Online Marketing will be celebrating their new membership with the MetroNorth Chamber.<br />\n<br />\n<span style="color: rgb(0\, 0\, 144)\; font-family: Tahoma\, ' Arial'\, ' Helvetica'\, ' sans-serif'\; font-size: 13.3333px\; line-height: normal\;">e-Merge Online Marketing celebrated their move to Fridley from Oakdale and to celebrate the 5th anniversary of e-Merge Online Marketing with the MetroNorth Chamber.</span>
LOCATION:Rasmussen College\, Blaine Campus 3629 95th Ave NE Blaine\, MN 55014
UID:e.380.159559
SEQUENCE:3
DTSTAMP:20260422T234924Z
URL:http://members.metronorthchamber.org/events/details/emerge-online-marketing-ribbon-cutting-10-28-2015-159559
END:VEVENT

END:VCALENDAR
