BEGIN:VCALENDAR
VERSION:2.0
PRODID:-//ChamberMaster//Event Calendar 2.0//EN
METHOD:PUBLISH
X-PUBLISHED-TTL:P3D
REFRESH-INTERVAL:P3D
CALSCALE:GREGORIAN
BEGIN:VEVENT
DTSTART:20120308T191500Z
DTEND:20120308T211500Z
X-MICROSOFT-CDO-ALLDAYEVENT:FALSE
SUMMARY:Effective Branding for Noticeable Results
DESCRIPTION:Effective Branding for Noticeable Results - In this economy it's essential to distinguish yourself from others in the market and be different from your competitors. Join us to learn how your strong brand will do just that! $49 (early registration discount call for details) 3/8/2012   1:15 pm   3:15 pm at Anoka Technical College 1355 West Highway 10\, Anoka MN 55303 (763) 576-4775.
X-ALT-DESC;FMTTYPE=text/html:<strong>Effective Branding for Noticeable Results </strong>- In this economy it&rsquo\;s essential to distinguish yourself from others in the market and be different from your competitors. Join us to learn how your strong brand will do just that! $49 (early registration discount call for details) 3/8/2012 &ndash\; 1:15 pm &ndash\; 3:15 pm at Anoka Technical College 1355 West Highway 10\, Anoka MN 55303 (763) 576-4775.
LOCATION:Anoka Technical College 1355 West Highway 10\, Anoka MN 55303
UID:e.380.143475
SEQUENCE:3
DTSTAMP:20260425T224923Z
URL:http://members.metronorthchamber.org/events/details/effective-branding-for-noticeable-results-03-08-2012-143475
END:VEVENT

END:VCALENDAR
