BEGIN:VCALENDAR
VERSION:2.0
PRODID:-//ChamberMaster//Event Calendar 2.0//EN
METHOD:PUBLISH
X-PUBLISHED-TTL:P3D
REFRESH-INTERVAL:P3D
CALSCALE:GREGORIAN
BEGIN:VEVENT
DTSTART:20131212T213000Z
DTEND:20131213T003000Z
X-MICROSOFT-CDO-ALLDAYEVENT:FALSE
SUMMARY:Edward Jones Holiday Open House
DESCRIPTION:Refreshments and light snacks will be served!\n\nWe hope to see you at our holiday open house!!!\n\n\n\nWe have a lot to be thankful for during this holiday season because of our friends\, neighbors and clients.  It is a pleasure to be a part of this community.  As part of our celebration\, we are sponsoring a charity.  We will be collecting nonperishable food items for the Centenial Area Food Shelf. Please note: Edward Jones cannot accept cash or checks as donations
X-ALT-DESC;FMTTYPE=text/html:<span style="color: rgb(255\, 0\, 0)\;"><span style="font-size: 12px\;"><span style="font-family: comic sans ms\;">Refreshments and light snacks will be served!<br />\nWe hope to see you at our holiday open house!!!<br />\n<br />\nWe have a lot to be thankful for during this holiday season because of our friends\, neighbors and clients.&nbsp\; It is a pleasure to be a part of this community.&nbsp\; As part of our celebration\, we are sponsoring a charity.&nbsp\; We will be collecting nonperishable food items for the Centenial Area Food Shelf. Please note: Edward Jones cannot accept cash or checks as donations</span></span></span>
LOCATION:9304 Lexington Ave N Circle Pines\, Mn 55014
UID:e.380.150010
SEQUENCE:3
DTSTAMP:20260424T125029Z
URL:http://members.metronorthchamber.org/events/details/edward-jones-holiday-open-house-12-12-2013-150010
END:VEVENT

END:VCALENDAR
