BEGIN:VCALENDAR
VERSION:2.0
PRODID:-//ChamberMaster//Event Calendar 2.0//EN
METHOD:PUBLISH
X-PUBLISHED-TTL:P3D
REFRESH-INTERVAL:P3D
CALSCALE:GREGORIAN
BEGIN:VEVENT
DTSTART:20120614T150000Z
DTEND:20120615T040000Z
X-MICROSOFT-CDO-ALLDAYEVENT:FALSE
SUMMARY:Edina Realty Foundation
DESCRIPTION:Eat and drink at Boston's in Riverdale and 10% of your bill will be donated to the Edina Realty Foundation. Since its inception in 1996\, the Edina Realty Foundation has raised $6.2 million to help the homeless in the communities we serve. Just let them know that you are there to help the Edina Realty Foundation. Eat in or take out.
X-ALT-DESC;FMTTYPE=text/html:Eat and drink at Boston&#39\;s in Riverdale and 10% of your bill will be donated to the Edina Realty Foundation. Since its inception in 1996\, the Edina Realty Foundation has raised $6.2 million to help the homeless in the communities we serve. Just let them know that you are there to help the Edina Realty Foundation. Eat in or take out. 
LOCATION:Boston's in Riverdale
UID:e.380.144724
SEQUENCE:3
DTSTAMP:20260425T161610Z
URL:http://members.metronorthchamber.org/events/details/edina-realty-foundation-06-14-2012-144724
END:VEVENT

END:VCALENDAR
