BEGIN:VCALENDAR
VERSION:2.0
PRODID:-//ChamberMaster//Event Calendar 2.0//EN
METHOD:PUBLISH
X-PUBLISHED-TTL:P3D
REFRESH-INTERVAL:P3D
CALSCALE:GREGORIAN
BEGIN:VEVENT
DTSTART:20160927T210000Z
DTEND:20160927T230000Z
X-MICROSOFT-CDO-ALLDAYEVENT:FALSE
SUMMARY:Edgemont Place-Grand Opening
DESCRIPTION:Please join us Tuesday September 27th from 4:00pm-6:00pm for our Grand Opening & Open House!  Enjoy light refreshments\, entertainment and door prizes.  Please RSVP by Tuesday September 20th (763-862-7000).
X-ALT-DESC;FMTTYPE=text/html:<em><span style="font-size:20px"><span style="font-family:tahoma">Please join us Tuesday September 27th from 4:00pm-6:00pm for our Grand Opening &amp\; Open House! &nbsp\;Enjoy light refreshments\, entertainment and door prizes. &nbsp\;Please RSVP by Tuesday September 20th (763-862-7000).</span></span></em>
LOCATION:Edgemont Place Alzheimer's Special Care Center 11748 Ulysses Lane NE Blaine\, MN 55434
UID:e.380.169334
SEQUENCE:3
DTSTAMP:20260422T065731Z
URL:http://members.metronorthchamber.org/events/details/edgemont-place-grand-opening-169334
END:VEVENT

END:VCALENDAR
