BEGIN:VCALENDAR
VERSION:2.0
PRODID:-//ChamberMaster//Event Calendar 2.0//EN
METHOD:PUBLISH
X-PUBLISHED-TTL:P3D
REFRESH-INTERVAL:P3D
CALSCALE:GREGORIAN
BEGIN:VEVENT
DTSTART:20170622T050000Z
DTEND:20170622T050000Z
X-MICROSOFT-CDO-ALLDAYEVENT:FALSE
SUMMARY:EDGE Sport Enhancement/Injury Prevention
DESCRIPTION:Take the EDGE over your competition! Enhance. Dominate. Grow. Excel is a program designed by our functional movement experts! This program will take you to the next level in your sport and help to decrease your risk of injury to KEEP YOU IN THE GAME!
X-ALT-DESC;FMTTYPE=text/html:Take the EDGE over your competition!&nbsp\;<u><strong>E</strong></u>nhance.&nbsp\;<u><strong>D</strong></u>ominate.&nbsp\;<u><strong>G</strong></u>row.&nbsp\;<strong><u>E</u></strong>xcel is a program designed by our functional movement experts! This program will take you to the next level in your sport and help to decrease your risk of injury to KEEP YOU IN THE GAME!&nbsp\;
LOCATION:Presented by Andover Physical Therapy and hosted at SNAP Fitness 1574 154th Ave NW Andover\, MN
UID:e.380.175034
SEQUENCE:3
DTSTAMP:20260421T135635Z
URL:http://members.metronorthchamber.org/events/details/edge-sport-enhancement-injury-prevention-06-22-2017-175034
END:VEVENT

END:VCALENDAR
