BEGIN:VCALENDAR
VERSION:2.0
PRODID:-//ChamberMaster//Event Calendar 2.0//EN
METHOD:PUBLISH
X-PUBLISHED-TTL:P3D
REFRESH-INTERVAL:P3D
CALSCALE:GREGORIAN
BEGIN:VEVENT
DTSTART:20170510T200000Z
DTEND:20170510T210000Z
X-MICROSOFT-CDO-ALLDAYEVENT:FALSE
SUMMARY:EDGE Sport Enhancement/Injury Prevention
DESCRIPTION:Take the EDGE over your competition! Enhance. Dominate. Grow. Excel is a program designed by our functional movement experts! This program will take you to the next level in your sport and help to decrease your risk of injury to KEEP YOU IN THE GAME!
X-ALT-DESC;FMTTYPE=text/html:Take the EDGE over your competition! <u><strong>E</strong></u>nhance. <u><strong>D</strong></u>ominate. <u><strong>G</strong></u>row. <strong><u>E</u></strong>xcel is a program designed by our functional movement experts! This program will take you to the next level in your sport and help to decrease your risk of injury to KEEP YOU IN THE GAME!&nbsp\;
LOCATION:Saint Francis Physical Therapy 23212 St. Francis Blvd
UID:e.380.172000
SEQUENCE:3
DTSTAMP:20260421T153048Z
URL:http://members.metronorthchamber.org/events/details/edge-sport-enhancement-injury-prevention-05-10-2017-172000
END:VEVENT

END:VCALENDAR
