BEGIN:VCALENDAR
VERSION:2.0
PRODID:-//ChamberMaster//Event Calendar 2.0//EN
METHOD:PUBLISH
X-PUBLISHED-TTL:P3D
REFRESH-INTERVAL:P3D
CALSCALE:GREGORIAN
BEGIN:VEVENT
DTSTART:20120202T193000Z
DTEND:20120202T223000Z
X-MICROSOFT-CDO-ALLDAYEVENT:FALSE
SUMMARY:EB-5 Visa Program
DESCRIPTION:The American-Israel Chamber of Commerce & Industry of Minnesota presents the EB-5 Visa Program.\n\n\n\nPlease join us for a seminar on the subject of the EB-5 and Related Investor Visa Programs for Foreign Investors in U.S. Companies. This could help to mobilize foreign investment capital for the benefit of entrepreneurs right here in Minnesota and the upper Midwest.\n\n\n\nPanel of Experts\n\nRobert Aronson: Aronson & Associates\, Immigration Law Firm\n\nLaura Danielson: Fredrikson & Byron\n\nGeorge Maxwell: Borene Law Firm\n\nEric Wille\, CPA: Schechter Dokken Kanter CPAs\n\n\n\nOur panel will discuss the EB-5 and related visa programs for foreign investors that make investments of not less than $500 thousand in select enterprise zones and create not less than ten jobs. These investors can help small businesses here in Minnesota to get funded.\n\n\n\nClick here for a copy of the flyer.
X-ALT-DESC;FMTTYPE=text/html:<span style="color:#000080\;"><span style="font-size: 10px\;"><span style="font-family: tahoma\;">The American-Israel Chamber of Commerce &amp\; Industry of Minnesota presents the EB-5 Visa Program.<br />\n<br />\nPlease join us for a seminar on the subject of the EB-5 and Related Investor Visa Programs for Foreign Investors in U.S. Companies. This could help to mobilize foreign investment capital for the benefit of entrepreneurs right here in Minnesota and the upper Midwest.<br />\n<br />\n<u>Panel of Experts</u><br />\nRobert Aronson: Aronson &amp\; Associates\, Immigration Law Firm<br />\nLaura Danielson: Fredrikson &amp\; Byron<br />\nGeorge Maxwell: Borene Law Firm<br />\nEric Wille\, CPA: Schechter Dokken Kanter CPAs<br />\n<br />\nOur panel will discuss the EB-5 and related visa programs for foreign investors that make investments of not less than $500 thousand in select enterprise zones and create not less than ten jobs. These investors can help small businesses here in Minnesota to get funded.<br />\n<br />\nClick <a href="http://cloud.chambermaster.com/userfiles/UserFiles/chambers/380/File/EB-5FinalBrochure13Feb12-6PM.pdf">here</a> for a copy of the flyer.</span></span></span>
LOCATION:Doubletree Hotel 1500 Park Place Blvd. Minneapolis\, MN 55416
UID:e.380.143176
SEQUENCE:3
DTSTAMP:20260425T224622Z
URL:http://members.metronorthchamber.org/events/details/eb-5-visa-program-02-02-2012-143176
END:VEVENT

END:VCALENDAR
