BEGIN:VCALENDAR
VERSION:2.0
PRODID:-//ChamberMaster//Event Calendar 2.0//EN
METHOD:PUBLISH
X-PUBLISHED-TTL:P3D
REFRESH-INTERVAL:P3D
CALSCALE:GREGORIAN
BEGIN:VEVENT
DTSTART:20120222T230000Z
DTEND:20120223T010000Z
X-MICROSOFT-CDO-ALLDAYEVENT:FALSE
SUMMARY:EAT BREAD TO RAISE DOUGH
DESCRIPTION:Join Panera Bread in support of Jack Jablonski\n\nWednesday\, February 22\, 2012\n\n5:00p.m.   7:00p.m.\n\n\n\nDine at any Minnesota Panera Bread bakery-cafe on February 22nd between 5 p.m. & 7 p.m. and mention 'Jack\,' or show this flyer to the cashier. We'll donate 10% of sales from ALL participating Panera Bread bakery-cafes to the Jack Jablonski Fund.\n\n\n\nFor a complete listing of participating bakery-cafes\, visit www.jabby13.com.
X-ALT-DESC;FMTTYPE=text/html:<span style="font-size:10px\;"><span style="font-family: tahoma\;"><strong>Join Panera Bread in support of Jack Jablonski<br />\nWednesday\, February 22\, 2012<br />\n5:00p.m. &ndash\; 7:00p.m.</strong><br />\n<br />\nDine at any Minnesota Panera Bread bakery-cafe on February 22nd between 5 p.m. &amp\; 7 p.m. and mention &lsquo\;Jack\,&rsquo\; or show this <a href="http://cloud.chambermaster.com/userfiles/UserFiles/chambers/380/File/PaneraBread-JackFlyer.pdf">flyer</a> to the cashier. We&rsquo\;ll donate 10% of sales from ALL participating Panera Bread bakery-cafes to the Jack Jablonski Fund.<br />\n<br />\nFor a complete listing of participating bakery-cafes\, visit <a href="http://www.jabby13.com/">www.jabby13.com</a></span></span>.
LOCATION:
UID:e.380.143467
SEQUENCE:3
DTSTAMP:20260425T225439Z
URL:http://members.metronorthchamber.org/events/details/eat-bread-to-raise-dough-02-22-2012-143467
END:VEVENT

END:VCALENDAR
