BEGIN:VCALENDAR
VERSION:2.0
PRODID:-//ChamberMaster//Event Calendar 2.0//EN
METHOD:PUBLISH
X-PUBLISHED-TTL:P3D
REFRESH-INTERVAL:P3D
CALSCALE:GREGORIAN
BEGIN:VEVENT
DTSTART:20160326T190000Z
DTEND:20160326T200000Z
X-MICROSOFT-CDO-ALLDAYEVENT:FALSE
SUMMARY:Easter Egg Hunt!
DESCRIPTION:Come visit Edgemont Place Alzheimer's Special Care Center for our first annual Easter Egg Hunt! Bring your own basket. All ages are welcome. At 3:00 p.m. enjoy a Ukrainian Easter Egg Decorating Demonstration.
X-ALT-DESC;FMTTYPE=text/html:Come visit Edgemont Place Alzheimer&#39\;s Special Care Center for our first annual Easter Egg Hunt! Bring your own basket. All ages are welcome. At 3:00 p.m. enjoy a Ukrainian Easter Egg Decorating Demonstration.
LOCATION:Edgemont Place Alzheimer's Special Care Center\\ 11748 Ulysses Lane NE Blaine\, MN 55434
UID:e.380.163690
SEQUENCE:3
DTSTAMP:20260422T162952Z
URL:http://members.metronorthchamber.org/events/details/easter-egg-hunt-03-26-2016-163690
END:VEVENT

END:VCALENDAR
