BEGIN:VCALENDAR
VERSION:2.0
PRODID:-//ChamberMaster//Event Calendar 2.0//EN
METHOD:PUBLISH
X-PUBLISHED-TTL:P3D
REFRESH-INTERVAL:P3D
CALSCALE:GREGORIAN
BEGIN:VEVENT
DTSTART:20190421T150000Z
DTEND:20190421T203000Z
X-MICROSOFT-CDO-ALLDAYEVENT:FALSE
SUMMARY:Easter Brunch
DESCRIPTION:Easter Brunch at Majestic Oaks.  The Easter Bunny will be joining us for pictures also. Call to make reservations.
X-ALT-DESC;FMTTYPE=text/html:Easter Brunch at Majestic Oaks.&nbsp\; The Easter Bunny will be joining us for pictures also. Call to make reservations.
LOCATION:Majestic Oaks Golf Club-Ham Lake MN
UID:e.380.188497
SEQUENCE:3
DTSTAMP:20260420T040711Z
URL:http://members.metronorthchamber.org/events/details/easter-brunch-188497
END:VEVENT

END:VCALENDAR
