BEGIN:VCALENDAR
VERSION:2.0
PRODID:-//ChamberMaster//Event Calendar 2.0//EN
METHOD:PUBLISH
X-PUBLISHED-TTL:P3D
REFRESH-INTERVAL:P3D
CALSCALE:GREGORIAN
BEGIN:VEVENT
DTSTART;VALUE=DATE:20140422
DTEND;VALUE=DATE:20140423
TRANSP:TRANSPARENT
X-MICROSOFT-CDO-ALLDAYEVENT:TRUE
SUMMARY:Earth Day
DESCRIPTION:CitiesFruit will have a display and free product at Earth Day Open House at the Centennial Lakes Office Park\, 7650 Edinborough Way\, Edina MN 55435.
X-ALT-DESC;FMTTYPE=text/html:CitiesFruit will have a display and free product at Earth Day Open House at the Centennial Lakes Office Park\, 7650 Edinborough Way\, Edina MN 55435.
LOCATION:
UID:e.380.150854
SEQUENCE:3
DTSTAMP:20260424T061915Z
URL:http://members.metronorthchamber.org/events/details/earth-day-04-22-2014-150854
END:VEVENT

END:VCALENDAR
