BEGIN:VCALENDAR
VERSION:2.0
PRODID:-//ChamberMaster//Event Calendar 2.0//EN
METHOD:PUBLISH
X-PUBLISHED-TTL:P3D
REFRESH-INTERVAL:P3D
CALSCALE:GREGORIAN
BEGIN:VEVENT
DTSTART;VALUE=DATE:20160326
DTEND;VALUE=DATE:20160327
TRANSP:TRANSPARENT
X-MICROSOFT-CDO-ALLDAYEVENT:TRUE
SUMMARY:Dubai World Cup
DESCRIPTION:Welcome to the richest day in racing. Witness the race through our simulcast area and feel excitement grip you as only racing can
X-ALT-DESC;FMTTYPE=text/html:<span style="color:rgb(125\, 125\, 125)\; font-family:helvetica\,arial\,sans-serif\; font-size:17px">Welcome to the richest day in racing. Witness the race through our simulcast area and feel excitement grip you as only racing can</span>
LOCATION:Running Aces Casino & Racetrack
UID:e.380.164815
SEQUENCE:3
DTSTAMP:20260422T175848Z
URL:http://members.metronorthchamber.org/events/details/dubai-world-cup-03-26-2016-164815
END:VEVENT

END:VCALENDAR
