BEGIN:VCALENDAR
VERSION:2.0
PRODID:-//ChamberMaster//Event Calendar 2.0//EN
METHOD:PUBLISH
X-PUBLISHED-TTL:P3D
REFRESH-INTERVAL:P3D
CALSCALE:GREGORIAN
BEGIN:VEVENT
DTSTART:20160308T150000Z
DTEND:20160308T190000Z
X-MICROSOFT-CDO-ALLDAYEVENT:FALSE
SUMMARY:Driver Refresher Course
DESCRIPTION:4 hr Refresher Course - Save 10% off car insurance
X-ALT-DESC;FMTTYPE=text/html:4 hr Refresher Course - Save 10% off car insurance
LOCATION:Bel Rae Senior Living 2330 County Highway 10 Mounds View\, MN 55112
UID:e.380.163693
SEQUENCE:3
DTSTAMP:20260422T162954Z
URL:http://members.metronorthchamber.org/events/details/driver-refresher-course-03-08-2016-163693
END:VEVENT

END:VCALENDAR
