BEGIN:VCALENDAR
VERSION:2.0
PRODID:-//ChamberMaster//Event Calendar 2.0//EN
METHOD:PUBLISH
X-PUBLISHED-TTL:P3D
REFRESH-INTERVAL:P3D
CALSCALE:GREGORIAN
BEGIN:VEVENT
DTSTART:20150501T150000Z
DTEND:20150501T160000Z
X-MICROSOFT-CDO-ALLDAYEVENT:FALSE
SUMMARY:Dollar Tree Grand Opening
DESCRIPTION:A ribbon cutting ceremony will occur at Dollar Tree on Friday\, May 1 to celebrate the store opening at Northway Shopping Center. Event attendees will have the opportunity to shop the new merchandise and enter to win a gift basket containing a Dollar Tree gift certificate and products sold in the store. Complimentary cake and beverages will be provided following the ribbon cutting ceremony.
X-ALT-DESC;FMTTYPE=text/html:<span style="font-size:10pt"><span style="line-height:20px">A r</span><font color="#000000" face="calibri">ibbon cutting ceremony will occur at Dollar Tree on Friday\, May 1 to celebrate the store opening at Northway Shopping Center. Event attendees will have the opportunity to shop the new merchandise and enter to win a gift basket containing a Dollar Tree gift certificate and products sold in the store. Complimentary cake and beverages will be provided following the ribbon cutting ceremony.</font></span>
LOCATION:9115 South Highway Drive\, Circle Pines\, MN
UID:e.380.157308
SEQUENCE:3
DTSTAMP:20260423T083541Z
URL:http://members.metronorthchamber.org/events/details/dollar-tree-grand-opening-05-01-2015-157308
END:VEVENT

END:VCALENDAR
