BEGIN:VCALENDAR
VERSION:2.0
PRODID:-//ChamberMaster//Event Calendar 2.0//EN
METHOD:PUBLISH
X-PUBLISHED-TTL:P3D
REFRESH-INTERVAL:P3D
CALSCALE:GREGORIAN
BEGIN:VEVENT
DTSTART:20180204T160000Z
DTEND:20180204T190000Z
X-MICROSOFT-CDO-ALLDAYEVENT:FALSE
SUMMARY:Dog Nail Trimming
DESCRIPTION:Fairy Tails Grooming has contacted Homeward Bound Rescue to do a nail trim event. Nail trims will be by whatever donation you decide to make towards the rescue! Cash or check preferred\, please\, as all will be going to Homeward Bound. Get your dogs nails done well in advance of your Superbowl party! Nail trims are on a first come\, first served bases starting at 10 am and ending at 1 pm. We can't wait to meet you and your dogs!
X-ALT-DESC;FMTTYPE=text/html:Fairy Tails Grooming has contacted Homeward Bound Rescue to do a nail trim event. Nail trims will be by whatever donation you decide to make towards the rescue! Cash or check preferred\, please\, as all will be going to Homeward Bound. Get your dogs nails done well in advance of your Superbowl party! Nail trims are on a first come\, first served bases starting at 10 am and ending at 1 pm. We can&#39\;t wait to meet you and your dogs!
LOCATION:Fairy Tails Grooming 10904 Baltimore St.. NE\, Suite 106 Blaine\, MN 55449
UID:e.380.180178
SEQUENCE:3
DTSTAMP:20260421T022338Z
URL:http://members.metronorthchamber.org/events/details/dog-nail-trimming-180178
END:VEVENT

END:VCALENDAR
