BEGIN:VCALENDAR
VERSION:2.0
PRODID:-//ChamberMaster//Event Calendar 2.0//EN
METHOD:PUBLISH
X-PUBLISHED-TTL:P3D
REFRESH-INTERVAL:P3D
CALSCALE:GREGORIAN
BEGIN:VEVENT
DTSTART:20150527T160000Z
DTEND:20150527T161500Z
X-MICROSOFT-CDO-ALLDAYEVENT:FALSE
SUMMARY:Divorce Settlement Solutions Ribbon Cutting
DESCRIPTION:The MetroNorth Chamber is holding a Ribbon Cutting for Sara Tilberg of Divorce Settlement Solutions at the May Working With Women meeting on May 27.
X-ALT-DESC;FMTTYPE=text/html:The MetroNorth Chamber is holding a Ribbon Cutting for Sara Tilberg of Divorce Settlement Solutions at the May Working With Women meeting on May 27.
LOCATION:Rasmussen College Blaine Campus\, 3629 95th Ave NE\, Blaine 55014
UID:e.380.157274
SEQUENCE:3
DTSTAMP:20260423T095351Z
URL:http://members.metronorthchamber.org/events/details/divorce-settlement-solutions-ribbon-cutting-05-27-2015-157274
END:VEVENT

END:VCALENDAR
