BEGIN:VCALENDAR
VERSION:2.0
PRODID:-//ChamberMaster//Event Calendar 2.0//EN
METHOD:PUBLISH
X-PUBLISHED-TTL:P3D
REFRESH-INTERVAL:P3D
CALSCALE:GREGORIAN
BEGIN:VEVENT
DTSTART;VALUE=DATE:20120602
DTEND;VALUE=DATE:20120604
TRANSP:TRANSPARENT
X-MICROSOFT-CDO-ALLDAYEVENT:TRUE
SUMMARY:Discover Aviation Days!
DESCRIPTION:Celebrate the history and future of flight at Discover Aviation Days.  Come  to the Anoka County Airport in Blaine and enjoy flying demonstrations\, kid's activities\, numerous aviation exhibits\, aircraft & helicopter rides\, food booths and more!  General aviation and corporate aircraft\, experimental\, WWII fighters\, trainers and bombers and modern military aircraft will all be on display.  Those interested in a career in aviation can stop by the numerous aviation and education booths. A Pancake Breakfast & Lunch to be served both days. Pilot Safety Seminars offered throughout both days. An evening Hangar Dance with 1940's swing music from David Andrew's Big Band held Saturday night at 8pm.\n\n	 \n\n	Admission to Discover Aviation Days is FREE. However\, we are asking for a parking donation to aid in covering event costs.  The pancake breakfast\, hangar dance and air rides all require fees.\n\n	 \n- Pancake Breakfast from 7am to 11:30am / Lunch - noon to 3:30 both days.\n\n\n\n- American Veterans Traveling Tribute on display starting at 12:00 noon on Friday June 1st through end of day June 3rd - open 24 hours for viewing.\n\n\n\n- The hangar dance is from 8 p.m. to midnight on Saturday June 2nd.      Admission is $12 for adults\, $8 for students\, kids 12 and under are free.\n\n\n\n\n	This year's Special Feature  -  "American Veterans Traveling Tribute"\n\n	This large exhibit is an 80% scale of the Vietnam wall in Washington DC.\n\n	Opening ceremonies for this to be held Friday June 1st at 12:00 noon.
X-ALT-DESC;FMTTYPE=text/html:<p style="MARGIN: 0in 0in 0pt">\n	<span style="font-size:10px\;"><span style="font-family: tahoma\;"><span style="color: black\;">Celebrate the history and future of flight at Discover Aviation Days.&nbsp\; Come&nbsp\; to&nbsp\;the Anoka County Airport in Blaine and enjoy flying demonstrations\, kid&#39\;s activities\, numerous aviation exhibits\, aircraft &amp\; helicopter rides\, food booths and more!&nbsp\; General aviation and corporate aircraft\, experimental\, WWII fighters\, trainers and bombers and modern military aircraft will all be on display.&nbsp\; Those interested in a career in aviation can stop by the numerous aviation and education booths. A Pancake Breakfast &amp\; Lunch to be served both days. Pilot Safety Seminars offered throughout both days. An evening Hangar Dance with 1940&#39\;s swing music from David Andrew&#39\;s Big Band held Saturday night at 8pm.</span></span></span></p>\n<p style="MARGIN: 0in 0in 0pt">\n	<span style="font-size:10px\;"><span style="font-family: tahoma\;"><span style="color: black\;">&nbsp\;</span></span></span></p>\n<p style="margin: 0in 0in 0pt\;">\n	<span style="font-size: 10px\;"><span style="font-family: tahoma\;"><span style="color: black\;">Admission to Discover Aviation Days is <strong>FREE</strong>. However\, we are asking for a parking donation to aid in covering event costs.&nbsp\; The pancake breakfast\, hangar dance and air rides all require fees.</span></span></span><br />\n	&nbsp\;</p>\n<span style="font-size: 10px\;"><span style="font-family: tahoma\;">- Pancake Breakfast from 7am to 11:30am / Lunch - noon to 3:30 both days.</span></span><br />\n<br />\n- <span style="font-size: 10px\;"><span style="font-family: tahoma\;">American Veterans Traveling Tribute on display starting at 12:00 noon on Friday June 1st through end of day June 3rd - open 24 hours for viewing.</span></span><br />\n<br />\n<span style="font-size: 10px\;"><span style="font-family: tahoma\;">- The <a href="http://cts.vresp.com/c/?DiscoveryAviationDay/ee30b8a4f0/de0de5b455/e067210bce/llr=ll4qeqcab&amp\;et=1108986016390&amp\;s=0&amp\;e=0019vIscRSxUYZpay8pXuwyv2SUnDmSMKSQJqlXF7mQpavDKBsvS8V3fBi6SP35-dMjkodL_bnn9HC6tIfgdP6mI3YXtYkP_5iOksXZ-gcgh67Agqm-NDmu1UUsA-KMdsxqM5lFbMrWIAZfI7-8fORaLbnItECPtdBS" target="_blank" title="http://cts.vresp.com/c/?DiscoveryAviationDay/ee30b8a4f0/de0de5b455/e067210bce/llr=ll4qeqcab&amp\;et=1108986016390&amp\;s=0&amp\;e=0019vIscRSxUYZpay8pXuwyv2SUnDmSMKSQJqlXF7mQpavDKBsvS8V3fBi6SP35-dMjkodL_bnn9HC6tIfgdP6mI3YXtYkP_5iOksXZ-gcgh67Agqm-NDmu1UUsA-KMdsxqM5lFbMrWIAZfI7-8fORaLbnItECPtdBS">hangar dance</a> is from 8 p.m. to midnight on Saturday June 2nd.&nbsp\; &nbsp\;&nbsp\;&nbsp\;&nbsp\;Admission is $12 for adults\, $8 for students\, kids 12 and under are free.</span></span><br />\n<br />\n<p style="margin: 0in 0in 0pt\;">\n	<span style="font-size:10px\;"><span style="font-family: tahoma\;"><strong><i><span style="color: black\;">This year&#39\;s Special Feature</span></i></strong><span style="color: black\;">&nbsp\; -&nbsp\; <strong><a href="http://cts.vresp.com/c/?DiscoveryAviationDay/ee30b8a4f0/de0de5b455/17f2c55f8a/llr=ll4qeqcab&amp\;et=1108986016390&amp\;s=0&amp\;e=0019vIscRSxUYZpay8pXuwyv2SUnDmSMKSQJqlXF7mQpavDKBsvS8V3fBi6SP35-dMjkodL_bnn9HC6tIfgdP6mI3YXtYkP_5iOksXZ-gcgh66EalGSiqjfqI5UsliAMVp_6e-eys_FdgvRgGj80z_oC8y08nZDOPKr" target="_blank" title="http://cts.vresp.com/c/?DiscoveryAviationDay/ee30b8a4f0/de0de5b455/17f2c55f8a/llr=ll4qeqcab&amp\;et=1108986016390&amp\;s=0&amp\;e=0019vIscRSxUYZpay8pXuwyv2SUnDmSMKSQJqlXF7mQpavDKBsvS8V3fBi6SP35-dMjkodL_bnn9HC6tIfgdP6mI3YXtYkP_5iOksXZ-gcgh66EalGSiqjfqI5UsliAMVp_6e-eys_FdgvRgGj80z_oC8y08nZDOPKr">&quot\;American Veterans Traveling Tribute&quot\;</a></strong></span></span></span></p>\n<p style="margin: 0in 0in 0pt\;">\n	<span style="font-size:10px\;"><span style="font-family: tahoma\;"><em><span style="color: black\;">This large exhibit is an 80% scale of the Vietnam wall in Washington DC.</span></em></span></span></p>\n<p style="margin: 0in 0in 0pt\;">\n	<span style="font-size:10px\;"><span style="font-family: tahoma\;"><em><span style="color: black\;">Opening ceremonies for this to be held Friday June 1st at 12:00 noon.</span></em></span></span></p>\n
LOCATION:Anoka County Airport - Janes Field\, in Blaine Minnesota.
UID:e.380.143319
SEQUENCE:3
DTSTAMP:20260425T161611Z
URL:http://members.metronorthchamber.org/events/details/discover-aviation-days-06-02-2012-143319
END:VEVENT

END:VCALENDAR
