BEGIN:VCALENDAR
VERSION:2.0
PRODID:-//ChamberMaster//Event Calendar 2.0//EN
METHOD:PUBLISH
X-PUBLISHED-TTL:P3D
REFRESH-INTERVAL:P3D
CALSCALE:GREGORIAN
BEGIN:VEVENT
DTSTART:20140121T170000Z
DTEND:20140121T190000Z
X-MICROSOFT-CDO-ALLDAYEVENT:FALSE
SUMMARY:Directories & Delectables
DESCRIPTION:Members are invited to come by for great food & great conversation while picking up their 2014 Business Directory.
X-ALT-DESC;FMTTYPE=text/html:Members are invited to come by for great food &amp\; great conversation while picking up their 2014 Business Directory. 
LOCATION:Chamber Office 21st Century Bank Building 9380 Central Avenue #320 Blaine\, MN 55449
UID:e.380.150024
SEQUENCE:3
DTSTAMP:20260424T092519Z
URL:http://members.metronorthchamber.org/events/details/directories-delectables-01-21-2014-150024
END:VEVENT

END:VCALENDAR
