BEGIN:VCALENDAR
VERSION:2.0
PRODID:-//ChamberMaster//Event Calendar 2.0//EN
METHOD:PUBLISH
X-PUBLISHED-TTL:P3D
REFRESH-INTERVAL:P3D
CALSCALE:GREGORIAN
BEGIN:VEVENT
DTSTART:20161012T230000Z
DTEND:20161013T000000Z
X-MICROSOFT-CDO-ALLDAYEVENT:FALSE
SUMMARY:Dinner with the Doc
DESCRIPTION:Come join us on Wednesday\, October 12th for a free healthy dinner paired with a educational talk about "Eating Well" by Dr. Bob Vaughn of HealthSource of Blaine. Food will be served starting at 6 with the talk starting shortly thereafter! Please call the office at 763-205-3781 or email hsblaine@gmail.com to RSPV by Monday\, October 10th.
X-ALT-DESC;FMTTYPE=text/html:Come join us on Wednesday\, October 12th for a free healthy dinner paired with a educational talk about &quot\;Eating Well&quot\; by Dr. Bob Vaughn of HealthSource of Blaine. Food will be served starting at 6 with the talk starting shortly thereafter! Please call the office at 763-205-3781 or email hsblaine@gmail.com to RSPV by Monday\, October 10th.
LOCATION:HealthSource of Blaine 10904 Baltimore St. NE Blaine\, MN 55449
UID:e.380.169490
SEQUENCE:3
DTSTAMP:20260422T032810Z
URL:http://members.metronorthchamber.org/events/details/dinner-with-the-doc-169490
END:VEVENT

END:VCALENDAR
