BEGIN:VCALENDAR
VERSION:2.0
PRODID:-//ChamberMaster//Event Calendar 2.0//EN
METHOD:PUBLISH
X-PUBLISHED-TTL:P3D
REFRESH-INTERVAL:P3D
CALSCALE:GREGORIAN
BEGIN:VEVENT
DTSTART:20120501T233000Z
DTEND:20120502T003000Z
X-MICROSOFT-CDO-ALLDAYEVENT:FALSE
SUMMARY:Dinner with the Doc
DESCRIPTION:Join Marisa Reyes with the Power with in and Dr. Bob Vaughn D.C.  For a free healthy dinner and great information on how to eat healthy in todays world and how to feel great and stay that way.   Dinner will be served at 6:30pm.  Feel free to bring a guest.   Please RSVP to 763 205 3781 by April 27th.
X-ALT-DESC;FMTTYPE=text/html:Join Marisa Reyes with the Power with in and Dr. Bob Vaughn D.C. &nbsp\;For a free healthy dinner and great information on how to eat healthy in todays world and how to feel great and stay that way. &nbsp\; Dinner will be served at 6:30pm. &nbsp\;Feel free to bring a guest. &nbsp\; Please RSVP to 763 205 3781 by April 27th.
LOCATION:HealthSource of Blaine
UID:e.380.143811
SEQUENCE:3
DTSTAMP:20260425T175541Z
URL:http://members.metronorthchamber.org/events/details/dinner-with-the-doc-05-01-2012-143811
END:VEVENT

END:VCALENDAR
