BEGIN:VCALENDAR
VERSION:2.0
PRODID:-//ChamberMaster//Event Calendar 2.0//EN
METHOD:PUBLISH
X-PUBLISHED-TTL:P3D
REFRESH-INTERVAL:P3D
CALSCALE:GREGORIAN
BEGIN:VEVENT
DTSTART:20181010T210000Z
DTEND:20181011T030000Z
X-MICROSOFT-CDO-ALLDAYEVENT:FALSE
SUMMARY:Dine to Donate - Texas Roadhouse
DESCRIPTION:10% of proceeds go to Tony's Place
X-ALT-DESC;FMTTYPE=text/html:10% of proceeds go to Tony&#39\;s Place
LOCATION:Texas Roadhouse 2780 Main Street NW Coon Rapids\, MN 763-862-3389
UID:e.380.187133
SEQUENCE:3
DTSTAMP:20260420T140441Z
URL:http://members.metronorthchamber.org/events/details/dine-to-donate-texas-roadhouse-187133
END:VEVENT

END:VCALENDAR
