BEGIN:VCALENDAR
VERSION:2.0
PRODID:-//ChamberMaster//Event Calendar 2.0//EN
METHOD:PUBLISH
X-PUBLISHED-TTL:P3D
REFRESH-INTERVAL:P3D
CALSCALE:GREGORIAN
BEGIN:VEVENT
DTSTART:20150423T170000Z
DTEND:20150423T180000Z
X-MICROSOFT-CDO-ALLDAYEVENT:FALSE
SUMMARY:Device Pitstop Ribbon Cutting
DESCRIPTION:Come celebrate Device Pitstop ribbon cutting\, and help welcome them to the chamber. They will be providing refreshments for all guests.
X-ALT-DESC;FMTTYPE=text/html:Come celebrate Device Pitstop ribbon cutting\, and help welcome them to the chamber. They will be providing refreshments for all guests.
LOCATION:Device Pitstop of Maple Grove 13732 83rd Way Maple Grove\, MN 55369
UID:e.380.157286
SEQUENCE:3
DTSTAMP:20260423T094952Z
URL:http://members.metronorthchamber.org/events/details/device-pitstop-ribbon-cutting-04-23-2015-157286
END:VEVENT

END:VCALENDAR
