BEGIN:VCALENDAR
VERSION:2.0
PRODID:-//ChamberMaster//Event Calendar 2.0//EN
METHOD:PUBLISH
X-PUBLISHED-TTL:P3D
REFRESH-INTERVAL:P3D
CALSCALE:GREGORIAN
BEGIN:VEVENT
DTSTART:20190413T150000Z
DTEND:20190413T160000Z
X-MICROSOFT-CDO-ALLDAYEVENT:FALSE
SUMMARY:Detox with the Doctor & Dietitian
DESCRIPTION:This will be a two-part series with Dr. Shanna & Becca\, RD.\n\n\n\nPart I (April 6) -- Includes a presentation + kickoff the 7-day detox program (optional). You will learn why it is important to detox\, plus get set-up with a unique detox plan to fit your needs. There will be various samples of medical foods\, supplements\, and juicing you can integrate into your detox.  Dr. Shanna & Becca will be completing a 7-day detox program alongside you and other participants!\n\n\n\nPart II (April 13) -- A follow-up to the week-long detox program + overview of safer personal care and household products +a bonus demo to make your own all-natural product to take home!\n\n\n\nCost is $45 for the series paid to Total Health & Healing Center.
X-ALT-DESC;FMTTYPE=text/html:<span style="color:rgb(29\, 33\, 41)\; font-family:helvetica\,arial\,sans-serif\; font-size:14px">This will be a two-part series with Dr. Shanna &amp\; Becca\, RD.</span><br />\n<br />\n<span style="color:rgb(29\, 33\, 41)\; font-family:helvetica\,arial\,sans-serif\; font-size:14px">Part I (April 6) -- Includes a presentation + kickoff the 7-day detox program (optional). You will learn why it is important to detox\, plus get set-up with a unique detox plan to fit your needs. There will be various samples of medical foods\, supplements\, and juicing you can integrate into your detox.&nbsp\; Dr. Shanna &amp\; Becca will be completing a 7-day detox program alongside you and other participants!</span><br />\n<br />\n<span style="color:rgb(29\, 33\, 41)\; font-family:helvetica\,arial\,sans-serif\; font-size:14px">Part II (April 13) -- A follow-up to the week-long detox program + overview of safer personal care and household products +a bonus demo to make your own all-natural product to take home!</span><br />\n<br />\n<span style="color:rgb(29\, 33\, 41)\; font-family:helvetica\,arial\,sans-serif\; font-size:14px">Cost is $45 for the series paid to Total Health &amp\; Healing Center.</span>
LOCATION:Total Health & Healing Center Studio space 11417 NW Hanson Blvd Coon Rapids\, MN 55433
UID:e.380.188828
SEQUENCE:3
DTSTAMP:20260420T041813Z
URL:http://members.metronorthchamber.org/events/details/detox-with-the-doctor-dietitian-04-13-2019-188828
END:VEVENT

END:VCALENDAR
