BEGIN:VCALENDAR
VERSION:2.0
PRODID:-//ChamberMaster//Event Calendar 2.0//EN
METHOD:PUBLISH
X-PUBLISHED-TTL:P3D
REFRESH-INTERVAL:P3D
CALSCALE:GREGORIAN
BEGIN:VEVENT
DTSTART:20131012T000000Z
DTEND:20131012T040000Z
X-MICROSOFT-CDO-ALLDAYEVENT:FALSE
SUMMARY:Dessert First
DESCRIPTION:
X-ALT-DESC;FMTTYPE=text/html:
LOCATION:Majestic Oaks
UID:e.380.149658
SEQUENCE:3
DTSTAMP:20260424T143628Z
URL:http://members.metronorthchamber.org/events/details/dessert-first-10-11-2013-149658
END:VEVENT

END:VCALENDAR
