BEGIN:VCALENDAR
VERSION:2.0
PRODID:-//ChamberMaster//Event Calendar 2.0//EN
METHOD:PUBLISH
X-PUBLISHED-TTL:P3D
REFRESH-INTERVAL:P3D
CALSCALE:GREGORIAN
BEGIN:VEVENT
DTSTART:20160305T200000Z
DTEND:20160305T213000Z
X-MICROSOFT-CDO-ALLDAYEVENT:FALSE
SUMMARY:Dementia & Family Relationships A Film and Discussion Series
DESCRIPTION:Come to Edgemont Place Alzheimer's Special Care Center and join in the viewing and discuss "The Forgetting: A Portrait of Alzheimers". This is a two part series with the second part of the film on Saturday\, April 2\, 2:00 p.m. - 3:30 p.m. Enjoy one hour of film viewing followed by 30 minutes of discussion. Free and open to the public.
X-ALT-DESC;FMTTYPE=text/html:Come to Edgemont Place Alzheimer&#39\;s Special Care Center and join in the viewing and discuss &quot\;The Forgetting: A Portrait of Alzheimers&quot\;. This is a two part series with the second part of the film on Saturday\, April 2\, 2:00 p.m. - 3:30 p.m. Enjoy one hour of film viewing followed by 30 minutes of discussion. Free and open to the public.
LOCATION:Edgemont Place Alzheimer's Special Care Center 11748 Ulysses Lane NE Blaine\, MN 55434
UID:e.380.163689
SEQUENCE:3
DTSTAMP:20260422T180651Z
URL:http://members.metronorthchamber.org/events/details/dementia-family-relationships-a-film-and-discussion-series-03-05-2016-163689
END:VEVENT

END:VCALENDAR
