BEGIN:VCALENDAR
VERSION:2.0
PRODID:-//ChamberMaster//Event Calendar 2.0//EN
METHOD:PUBLISH
X-PUBLISHED-TTL:P3D
REFRESH-INTERVAL:P3D
CALSCALE:GREGORIAN
BEGIN:VEVENT
DTSTART:20200115T140000Z
DTEND:20200116T230000Z
X-MICROSOFT-CDO-ALLDAYEVENT:FALSE
SUMMARY:Demand Driven Planner class
DESCRIPTION:Do you face inventory shortages at the very same time you have too much inventory?  Have you got too much of the wrong stuff\, too little of the right stuff?  And\, overall\, too much stuff?  Inventory is a leverage point and an asset. Let's treat it like the valuable resource that it is.  When we strategically position inventory\, and use it to provide excellent customer service\, we will improve systemic flow and improve our Return on Investment\, which is the goal of every company. Yes\, how you apply the methodology may change from company to company\, but the methodology basics remain the same.  Come learn how to reduce your overall inventory by about 30% and achieve near to 100% on-time delivery.  More information at www.apicstc.org
X-ALT-DESC;FMTTYPE=text/html:Do you face inventory shortages at the very same time you have too much inventory?&nbsp\; Have you got too much of the wrong stuff\, too little of the right stuff?&nbsp\; And\, overall\, too much stuff?&nbsp\; Inventory is a leverage point and an asset. Let&#39\;s treat it like the valuable resource that it is.&nbsp\; When we strategically position inventory\, and use it to provide excellent customer service\, we will improve systemic flow and improve our Return on Investment\, which is the goal of every company. Yes\, how you apply the methodology may change from company to company\, but the methodology basics remain the same.&nbsp\; Come learn how to reduce your overall inventory by about 30% and achieve near to 100% on-time delivery.&nbsp\; More information at www.apicstc.org
LOCATION:Hamline University at West End in St. Louis Park\, MN
UID:e.380.191763
SEQUENCE:3
DTSTAMP:20260419T124337Z
URL:http://members.metronorthchamber.org/events/details/demand-driven-planner-class-191763
END:VEVENT

END:VCALENDAR
