BEGIN:VCALENDAR
VERSION:2.0
PRODID:-//ChamberMaster//Event Calendar 2.0//EN
METHOD:PUBLISH
X-PUBLISHED-TTL:P3D
REFRESH-INTERVAL:P3D
CALSCALE:GREGORIAN
BEGIN:VEVENT
DTSTART:20190504T010000Z
DTEND:20190504T030000Z
X-MICROSOFT-CDO-ALLDAYEVENT:FALSE
SUMMARY:The Darkest Night of Your Life 4K
DESCRIPTION:On any given night\, there are more than 6\,000 homeless youth in the State of Minnesota. When the darkness of night sets in\, these youth are staying in shelters\, couch-hopping or sleeping on the streets. HOPE 4 Youth\, a nonprofit that provides pathways to end youth homelessness\, is once again bringing the community together for The Darkest Night of Your Life 4K to raise awareness of what these young people experience   darkness\, loneliness\, cold and quiet\, as well as funds for HOPE Place\, our transitional housing program\, to ensure they never have to experience them again.
X-ALT-DESC;FMTTYPE=text/html:<p><span style="font-size:16px"><span style="color:rgb(17\, 51\, 4)\; font-family:lato\,helveticaneue\,helvetica neue\,helvetica\,arial\,sans-serif">On any given night\, there are more than 6\,000 homeless youth in the State of Minnesota. When the darkness of night sets in\, these youth are staying in shelters\, couch-hopping or sleeping on the streets. HOPE 4 Youth\, a nonprofit that provides pathways to end youth homelessness\, is once again bringing the community together for The Darkest Night of Your Life 4K to raise awareness of what these young people experience &ndash\; darkness\, loneliness\, cold and quiet\, as well as funds for HOPE Place\, our transitional housing program\, to ensure they never have to experience them again.</span></span></p>\n
LOCATION:Bunker Hills Golf Club\, 12800 Bunker Prairie Road NW\, Coon Rapids\, MN.
UID:e.380.188576
SEQUENCE:3
DTSTAMP:20260420T041609Z
URL:http://members.metronorthchamber.org/events/details/darkest-night-of-your-life-4k-188576
END:VEVENT

END:VCALENDAR
