BEGIN:VCALENDAR
VERSION:2.0
PRODID:-//ChamberMaster//Event Calendar 2.0//EN
METHOD:PUBLISH
X-PUBLISHED-TTL:P3D
REFRESH-INTERVAL:P3D
CALSCALE:GREGORIAN
BEGIN:VEVENT
DTSTART:20150817T220000Z
DTEND:20150818T010000Z
X-MICROSOFT-CDO-ALLDAYEVENT:FALSE
SUMMARY:DADDY AND DAUGHTER NIGHT AT CHILI'S
DESCRIPTION:DAD'S\,  \n\n\n\n    BRING YOUR PRINCESS OUT TO CHILI'S ON MONDAY AUGUST 17TH\, FOR A SPECIAL DADDY DAUGHTER NIGHT.  WHAT A GREAT WAY TO BOND\, RECONNECT\, AND GIVE MOM A BREAK.  SPECIAL GIFT FOR ALL PRINCESSES\, ALSO CHILI'S WILL UNVEIL A PRINCESS DESSERT.  \n\n\n\nRSVP RECOMMENDED 763-783-9222.  \n\n\n\nJOIN US FOR THE INAUGURAL DADDY DAUGHTER NIGHT AT CHILI'S.
X-ALT-DESC;FMTTYPE=text/html:DAD&#39\;S\, &nbsp\;<br />\n<br />\n&nbsp\; &nbsp\; BRING YOUR PRINCESS OUT TO CHILI&#39\;S ON MONDAY AUGUST 17TH\, FOR A SPECIAL DADDY DAUGHTER NIGHT. &nbsp\;WHAT A GREAT WAY TO BOND\, RECONNECT\, AND GIVE MOM A BREAK. &nbsp\;SPECIAL GIFT FOR ALL PRINCESSES\, ALSO CHILI&#39\;S WILL UNVEIL A PRINCESS DESSERT. &nbsp\;<br />\n<br />\nRSVP RECOMMENDED 763-783-9222. &nbsp\;<br />\n<br />\nJOIN US FOR THE INAUGURAL DADDY DAUGHTER NIGHT AT CHILI&#39\;S. &nbsp\;<br />\n<br />\n&nbsp\;
LOCATION:DAD'S\, BRING YOUR PRINCESS OUT TO CHILI'S ON MONDAY AUGUST 17TH\, FOR A SPECIAL DADDY DAUGHTER NIGHT. WHAT A GREAT WAY TO BOND\, RECONNECT\, AND GIVE MOM A BREAK. SPECIAL GIFT FOR ALL PRINCESSES\, ALSO CHILI'S WILL UNVEIL A PRINCESS DESSERT. RSVP RECOMMENDED 763-783-9222. JOIN US FOR THE INAUGURAL DADDY DAUGHTER NIGHT AT CHILI'S. ?
UID:e.380.158515
SEQUENCE:3
DTSTAMP:20260423T043650Z
URL:http://members.metronorthchamber.org/events/details/daddy-and-daughter-night-at-chili-s-08-17-2015-158515
END:VEVENT

END:VCALENDAR
