BEGIN:VCALENDAR
VERSION:2.0
PRODID:-//ChamberMaster//Event Calendar 2.0//EN
METHOD:PUBLISH
X-PUBLISHED-TTL:P3D
REFRESH-INTERVAL:P3D
CALSCALE:GREGORIAN
BEGIN:VEVENT
DTSTART:20150916T133000Z
DTEND:20150916T170000Z
X-MICROSOFT-CDO-ALLDAYEVENT:FALSE
SUMMARY:Cybersecurity Essentials: Is your Business Protected?
DESCRIPTION:Register Now\n\n\n\nDo you worry about whether your computer networks are secure? Have your systems ever been hacked? What should be your priorities in seeking a security system?\n\n\n\nCybersecurity has emerged as a top priority for the U.S. Chamber of Commerce.  In an interconnected world\, economic security and national security are linked. The Minnesota Chamber and U.S. Chamber are pleased to present this program as part of the "2015 Cyberscurity Campaign: Improving Today. Protecting Tomorrow."\n\n\n\nJoin us and hear:\n\n\n	Keynote remarks: Michael Daniel\, special assistant to the U.S. president and cybersecurity coordinator\, White House (invited)\n	Risk management for small and medium-sized businesses: Dr. Willie E. May\, U.S. Department of Commerce\; and Adam Sedgewick\, National Institute of Standards and Technology (invited)\n	Critical Infrastructure Cyber Community (C-cubed): Phyllis Schneck\, Department of Homeland Security (invited)\n\n Who should attend?\n\n\n	You've heard something about a cyber framework--you're not exactly sure what it is--and want to learn more.\n	You have cybersecurity or risk-management responsibilities for your organization--whether private or public.\n	You have a cybersecurity program for your business and want to strengthen it.\n	You're a large company looking for ways to communicate about cyber with your small and midsize supply chain partners\n\n Plus  Learn about law enforcement engagement from the U.S. Secret Service at Minneapolis. Listen to panelists give their perspectives on cybersecurity. Then find out "your next steps."\n\n\n\nRegister Now
X-ALT-DESC;FMTTYPE=text/html:<br />\n<strong style="color: rgb(0\, 0\, 0)\; font-family: Arial\, sans-serif\; font-size: 20px\; line-height: 23.3999996185303px\;"><a href="https://secure2.chambermaster.com/directory/jsp/events/dlg/Public_AddReg.jsp?ccid=891&amp\;eventid=2429" target="_blank">Register Now</a></strong><br />\n<br />\n<span style="color:#000000\;"><span style="font-size:12px\;"><span style="font-family: Arial\, sans-serif\; line-height: 23.3999996185303px\;">Do you worry about whether your computer networks are secure? Have your systems ever been hacked? What should be your priorities in seeking a security system?</span><br style="bottom: auto\; box-sizing: content-box\; clear: none\; color: rgb(68\, 68\, 68)\; content: normal\; direction: inherit\; display: inline\; empty-cells: show\; float: none\; font-family: Arial\, sans-serif\; font-size: 18px\; font-stretch: inherit\; left: auto\; line-height: 23.3999996185303px\; margin: 0px\; max-height: none\; max-width: none\; min-height: initial\; min-width: initial\; opacity: 1\; outline: invert none medium\; outline-offset: 0px\; overflow: visible\; padding: 0px\; position: static\; resize: none\; right: auto\; table-layout: auto\; text-overflow: clip\; top: auto\; vertical-align: baseline\; visibility: inherit\; word-break: inherit\; word-wrap: inherit\; z-index: auto\; border: none\; border-collapse: separate\; border-image-source: none\; border-image-slice: 100% 1 0\; border-image-repeat: stretch\; border-radius: 0px\; height: auto\; width: auto\; background: none\;" />\n<br style="bottom: auto\; box-sizing: content-box\; clear: none\; color: rgb(68\, 68\, 68)\; content: normal\; direction: inherit\; display: inline\; empty-cells: show\; float: none\; font-family: Arial\, sans-serif\; font-size: 18px\; font-stretch: inherit\; left: auto\; line-height: 23.3999996185303px\; margin: 0px\; max-height: none\; max-width: none\; min-height: initial\; min-width: initial\; opacity: 1\; outline: invert none medium\; outline-offset: 0px\; overflow: visible\; padding: 0px\; position: static\; resize: none\; right: auto\; table-layout: auto\; text-overflow: clip\; top: auto\; vertical-align: baseline\; visibility: inherit\; word-break: inherit\; word-wrap: inherit\; z-index: auto\; border: none\; border-collapse: separate\; border-image-source: none\; border-image-slice: 100% 1 0\; border-image-repeat: stretch\; border-radius: 0px\; height: auto\; width: auto\; background: none\;" />\n<span style="font-family: Arial\, sans-serif\; line-height: 23.3999996185303px\;">Cybersecurity has emerged as a top priority for the U.S. Chamber of Commerce. &nbsp\;In an interconnected world\, economic security and national security are linked. The Minnesota Chamber and U.S. Chamber are pleased to present this program as part of the &ldquo\;2015 Cyberscurity Campaign: Improving Today. Protecting Tomorrow.&rdquo\;</span><br style="bottom: auto\; box-sizing: content-box\; clear: none\; color: rgb(68\, 68\, 68)\; content: normal\; direction: inherit\; display: inline\; empty-cells: show\; float: none\; font-family: Arial\, sans-serif\; font-size: 18px\; font-stretch: inherit\; left: auto\; line-height: 23.3999996185303px\; margin: 0px\; max-height: none\; max-width: none\; min-height: initial\; min-width: initial\; opacity: 1\; outline: invert none medium\; outline-offset: 0px\; overflow: visible\; padding: 0px\; position: static\; resize: none\; right: auto\; table-layout: auto\; text-overflow: clip\; top: auto\; vertical-align: baseline\; visibility: inherit\; word-break: inherit\; word-wrap: inherit\; z-index: auto\; border: none\; border-collapse: separate\; border-image-source: none\; border-image-slice: 100% 1 0\; border-image-repeat: stretch\; border-radius: 0px\; height: auto\; width: auto\; background: none\;" />\n<br style="bottom: auto\; box-sizing: content-box\; clear: none\; color: rgb(68\, 68\, 68)\; content: normal\; direction: inherit\; display: inline\; empty-cells: show\; float: none\; font-family: Arial\, sans-serif\; font-size: 18px\; font-stretch: inherit\; left: auto\; line-height: 23.3999996185303px\; margin: 0px\; max-height: none\; max-width: none\; min-height: initial\; min-width: initial\; opacity: 1\; outline: invert none medium\; outline-offset: 0px\; overflow: visible\; padding: 0px\; position: static\; resize: none\; right: auto\; table-layout: auto\; text-overflow: clip\; top: auto\; vertical-align: baseline\; visibility: inherit\; word-break: inherit\; word-wrap: inherit\; z-index: auto\; border: none\; border-collapse: separate\; border-image-source: none\; border-image-slice: 100% 1 0\; border-image-repeat: stretch\; border-radius: 0px\; height: auto\; width: auto\; background: none\;" />\n<span style="font-family: Arial\, sans-serif\; line-height: 23.3999996185303px\;">Join us and hear:</span></span></span>\n\n<ul style="bottom: auto\; box-sizing: content-box\; clear: none\; color: rgb(68\, 68\, 68)\; content: normal\; direction: inherit\; empty-cells: show\; float: none\; font-family: Arial\, sans-serif\; font-size: 18px\; font-stretch: inherit\; left: auto\; line-height: 23.3999996185303px\; margin: 1em 0px\; max-height: none\; max-width: none\; min-height: initial\; min-width: initial\; opacity: 1\; outline: invert none medium\; outline-offset: 0px\; overflow: visible\; padding-right: 0px\; position: static\; resize: none\; right: auto\; table-layout: auto\; text-overflow: clip\; top: auto\; vertical-align: baseline\; visibility: inherit\; word-break: inherit\; word-wrap: inherit\; z-index: auto\; border: none\; border-collapse: separate\; border-image-source: none\; border-image-slice: 100% 1 0\; border-image-repeat: stretch\; border-radius: 0px\; height: auto\; width: auto\; box-shadow: none\; background: none\;">\n	<li style="bottom: auto\; box-sizing: content-box\; clear: none\; color: inherit\; content: normal\; direction: inherit\; empty-cells: show\; float: none\; font-style: inherit\; font-variant: inherit\; font-weight: inherit\; font-stretch: inherit\; left: auto\; letter-spacing: inherit\; line-height: inherit\; margin: 0px\; max-height: none\; max-width: none\; min-height: initial\; min-width: initial\; opacity: 1\; outline: invert none medium\; outline-offset: 0px\; overflow: visible\; padding: 0px\; position: static\; resize: none\; right: auto\; table-layout: auto\; text-indent: inherit\; text-overflow: clip\; text-transform: inherit\; top: auto\; vertical-align: baseline\; visibility: inherit\; white-space: inherit\; word-break: inherit\; word-spacing: inherit\; word-wrap: inherit\; z-index: auto\; border: none\; border-collapse: separate\; border-image-source: none\; border-image-slice: 100% 1 0\; border-image-repeat: stretch\; border-radius: 0px\; height: auto\; width: auto\; box-shadow: none\; background: none\;"><span style="color:#000000\;"><span style="font-size:12px\;">Keynote remarks: Michael Daniel\, special assistant to the U.S. president and cybersecurity coordinator\, White House (invited)</span></span></li>\n	<li style="bottom: auto\; box-sizing: content-box\; clear: none\; color: inherit\; content: normal\; direction: inherit\; empty-cells: show\; float: none\; font-style: inherit\; font-variant: inherit\; font-weight: inherit\; font-stretch: inherit\; left: auto\; letter-spacing: inherit\; line-height: inherit\; margin: 0px\; max-height: none\; max-width: none\; min-height: initial\; min-width: initial\; opacity: 1\; outline: invert none medium\; outline-offset: 0px\; overflow: visible\; padding: 0px\; position: static\; resize: none\; right: auto\; table-layout: auto\; text-indent: inherit\; text-overflow: clip\; text-transform: inherit\; top: auto\; vertical-align: baseline\; visibility: inherit\; white-space: inherit\; word-break: inherit\; word-spacing: inherit\; word-wrap: inherit\; z-index: auto\; border: none\; border-collapse: separate\; border-image-source: none\; border-image-slice: 100% 1 0\; border-image-repeat: stretch\; border-radius: 0px\; height: auto\; width: auto\; box-shadow: none\; background: none\;"><span style="color:#000000\;"><span style="font-size:12px\;">Risk management for small and medium-sized businesses: Dr. Willie E. May\, U.S. Department of Commerce\; and Adam Sedgewick\, National Institute of Standards and Technology (invited)</span></span></li>\n	<li style="bottom: auto\; box-sizing: content-box\; clear: none\; color: inherit\; content: normal\; direction: inherit\; empty-cells: show\; float: none\; font-style: inherit\; font-variant: inherit\; font-weight: inherit\; font-stretch: inherit\; left: auto\; letter-spacing: inherit\; line-height: inherit\; margin: 0px\; max-height: none\; max-width: none\; min-height: initial\; min-width: initial\; opacity: 1\; outline: invert none medium\; outline-offset: 0px\; overflow: visible\; padding: 0px\; position: static\; resize: none\; right: auto\; table-layout: auto\; text-indent: inherit\; text-overflow: clip\; text-transform: inherit\; top: auto\; vertical-align: baseline\; visibility: inherit\; white-space: inherit\; word-break: inherit\; word-spacing: inherit\; word-wrap: inherit\; z-index: auto\; border: none\; border-collapse: separate\; border-image-source: none\; border-image-slice: 100% 1 0\; border-image-repeat: stretch\; border-radius: 0px\; height: auto\; width: auto\; box-shadow: none\; background: none\;"><span style="color:#000000\;"><span style="font-size:12px\;">Critical Infrastructure Cyber Community (C-cubed): Phyllis Schneck\, Department of Homeland Security (invited)</span></span></li>\n</ul>\n<span style="color:#000000\;"> <span style="font-size:12px\;"><span style="font-family: Arial\, sans-serif\; line-height: 23.3999996185303px\;">Who should attend?</span></span></span>\n\n<ul style="bottom: auto\; box-sizing: content-box\; clear: none\; color: rgb(68\, 68\, 68)\; content: normal\; direction: inherit\; empty-cells: show\; float: none\; font-family: Arial\, sans-serif\; font-size: 18px\; font-stretch: inherit\; left: auto\; line-height: 23.3999996185303px\; margin: 1em 0px\; max-height: none\; max-width: none\; min-height: initial\; min-width: initial\; opacity: 1\; outline: invert none medium\; outline-offset: 0px\; overflow: visible\; padding-right: 0px\; position: static\; resize: none\; right: auto\; table-layout: auto\; text-overflow: clip\; top: auto\; vertical-align: baseline\; visibility: inherit\; word-break: inherit\; word-wrap: inherit\; z-index: auto\; border: none\; border-collapse: separate\; border-image-source: none\; border-image-slice: 100% 1 0\; border-image-repeat: stretch\; border-radius: 0px\; height: auto\; width: auto\; box-shadow: none\; background: none\;">\n	<li style="bottom: auto\; box-sizing: content-box\; clear: none\; color: inherit\; content: normal\; direction: inherit\; empty-cells: show\; float: none\; font-style: inherit\; font-variant: inherit\; font-weight: inherit\; font-stretch: inherit\; left: auto\; letter-spacing: inherit\; line-height: inherit\; margin: 0px\; max-height: none\; max-width: none\; min-height: initial\; min-width: initial\; opacity: 1\; outline: invert none medium\; outline-offset: 0px\; overflow: visible\; padding: 0px\; position: static\; resize: none\; right: auto\; table-layout: auto\; text-indent: inherit\; text-overflow: clip\; text-transform: inherit\; top: auto\; vertical-align: baseline\; visibility: inherit\; white-space: inherit\; word-break: inherit\; word-spacing: inherit\; word-wrap: inherit\; z-index: auto\; border: none\; border-collapse: separate\; border-image-source: none\; border-image-slice: 100% 1 0\; border-image-repeat: stretch\; border-radius: 0px\; height: auto\; width: auto\; box-shadow: none\; background: none\;"><span style="color:#000000\;"><span style="font-size:12px\;">You&#39\;ve heard something about a cyber framework--you&#39\;re not exactly sure what it is--and want to learn more.</span></span></li>\n	<li style="bottom: auto\; box-sizing: content-box\; clear: none\; color: inherit\; content: normal\; direction: inherit\; empty-cells: show\; float: none\; font-style: inherit\; font-variant: inherit\; font-weight: inherit\; font-stretch: inherit\; left: auto\; letter-spacing: inherit\; line-height: inherit\; margin: 0px\; max-height: none\; max-width: none\; min-height: initial\; min-width: initial\; opacity: 1\; outline: invert none medium\; outline-offset: 0px\; overflow: visible\; padding: 0px\; position: static\; resize: none\; right: auto\; table-layout: auto\; text-indent: inherit\; text-overflow: clip\; text-transform: inherit\; top: auto\; vertical-align: baseline\; visibility: inherit\; white-space: inherit\; word-break: inherit\; word-spacing: inherit\; word-wrap: inherit\; z-index: auto\; border: none\; border-collapse: separate\; border-image-source: none\; border-image-slice: 100% 1 0\; border-image-repeat: stretch\; border-radius: 0px\; height: auto\; width: auto\; box-shadow: none\; background: none\;"><span style="color:#000000\;"><span style="font-size:12px\;">You have cybersecurity or risk-management responsibilities for your organization--whether private or public.</span></span></li>\n	<li style="bottom: auto\; box-sizing: content-box\; clear: none\; color: inherit\; content: normal\; direction: inherit\; empty-cells: show\; float: none\; font-style: inherit\; font-variant: inherit\; font-weight: inherit\; font-stretch: inherit\; left: auto\; letter-spacing: inherit\; line-height: inherit\; margin: 0px\; max-height: none\; max-width: none\; min-height: initial\; min-width: initial\; opacity: 1\; outline: invert none medium\; outline-offset: 0px\; overflow: visible\; padding: 0px\; position: static\; resize: none\; right: auto\; table-layout: auto\; text-indent: inherit\; text-overflow: clip\; text-transform: inherit\; top: auto\; vertical-align: baseline\; visibility: inherit\; white-space: inherit\; word-break: inherit\; word-spacing: inherit\; word-wrap: inherit\; z-index: auto\; border: none\; border-collapse: separate\; border-image-source: none\; border-image-slice: 100% 1 0\; border-image-repeat: stretch\; border-radius: 0px\; height: auto\; width: auto\; box-shadow: none\; background: none\;"><span style="color:#000000\;"><span style="font-size:12px\;">You have a cybersecurity program for your business and want to strengthen it.</span></span></li>\n	<li style="bottom: auto\; box-sizing: content-box\; clear: none\; color: inherit\; content: normal\; direction: inherit\; empty-cells: show\; float: none\; font-style: inherit\; font-variant: inherit\; font-weight: inherit\; font-stretch: inherit\; left: auto\; letter-spacing: inherit\; line-height: inherit\; margin: 0px\; max-height: none\; max-width: none\; min-height: initial\; min-width: initial\; opacity: 1\; outline: invert none medium\; outline-offset: 0px\; overflow: visible\; padding: 0px\; position: static\; resize: none\; right: auto\; table-layout: auto\; text-indent: inherit\; text-overflow: clip\; text-transform: inherit\; top: auto\; vertical-align: baseline\; visibility: inherit\; white-space: inherit\; word-break: inherit\; word-spacing: inherit\; word-wrap: inherit\; z-index: auto\; border: none\; border-collapse: separate\; border-image-source: none\; border-image-slice: 100% 1 0\; border-image-repeat: stretch\; border-radius: 0px\; height: auto\; width: auto\; box-shadow: none\; background: none\;"><span style="color:#000000\;"><span style="font-size:12px\;">You&#39\;re a large company looking for ways to communicate about cyber with your small and midsize supply chain partners</span></span></li>\n</ul>\n<span style="color:#000000\;"> <span style="font-family: Arial\, sans-serif\; font-size: 18px\; line-height: 23.3999996185303px\;"><span style="font-size:12px\;">Plus&hellip\; Learn about law enforcement engagement from the U.S. Secret Service at Minneapolis. Listen to panelists give their perspectives on cybersecurity.&nbsp\;Then find out &ldquo\;your next steps.&rdquo\;</span></span></span><br />\n<br />\n<strong style="color: rgb(0\, 0\, 0)\; font-family: Arial\, sans-serif\; font-size: 20px\; line-height: 23.3999996185303px\;"><a href="https://secure2.chambermaster.com/directory/jsp/events/dlg/Public_AddReg.jsp?ccid=891&amp\;eventid=2429" target="_blank">Register Now</a></strong>
LOCATION:Hyatt Regency 1300 Nicollet Mall Minneapolis Click here for directions.
UID:e.380.157876
SEQUENCE:3
DTSTAMP:20260423T025851Z
URL:http://members.metronorthchamber.org/events/details/cybersecurity-essentials-is-your-business-protected-09-16-2015-157876
END:VEVENT

END:VCALENDAR
