BEGIN:VCALENDAR
VERSION:2.0
PRODID:-//ChamberMaster//Event Calendar 2.0//EN
METHOD:PUBLISH
X-PUBLISHED-TTL:P3D
REFRESH-INTERVAL:P3D
CALSCALE:GREGORIAN
BEGIN:VEVENT
DTSTART;VALUE=DATE:20171213
DTEND;VALUE=DATE:20171218
TRANSP:TRANSPARENT
X-MICROSOFT-CDO-ALLDAYEVENT:TRUE
SUMMARY:Curling Mixed Doubles Olympic Trials
DESCRIPTION:Four Seasons Curling Club is proudly hosting the Mixed Doubles Trials December 13-17\, 2017.\n\nCome be part of the action! Learn to Curl VIP Packages are avaiable. Contact Rachel at: 763-780-3328 ex.18\n\n\n\nTickets on sale at: curlingtownUSA.com
X-ALT-DESC;FMTTYPE=text/html:Four Seasons Curling Club is proudly hosting the Mixed Doubles Trials December 13-17\, 2017.<br />\nCome be part of the action! Learn to Curl VIP Packages are avaiable. Contact Rachel at: 763-780-3328 ex.18<br />\n<br />\nTickets on sale at: curlingtownUSA.com
LOCATION:
UID:e.380.179208
SEQUENCE:3
DTSTAMP:20260421T050922Z
URL:http://members.metronorthchamber.org/events/details/curling-mixed-doubles-olympic-trials-179208
END:VEVENT

END:VCALENDAR
