BEGIN:VCALENDAR
VERSION:2.0
PRODID:-//ChamberMaster//Event Calendar 2.0//EN
METHOD:PUBLISH
X-PUBLISHED-TTL:P3D
REFRESH-INTERVAL:P3D
CALSCALE:GREGORIAN
BEGIN:VEVENT
DTSTART:20131022T213000Z
DTEND:20131022T230000Z
X-MICROSOFT-CDO-ALLDAYEVENT:FALSE
SUMMARY:Curling & Cocktails After Hours
DESCRIPTION:Join us at Four Seasons Curling Club at Fogerty Arena\, Blaine\, from 4:30-6pm on Tues Oct 22 & curl on their Olympic-quality rink. (No experience necessary\, instruction included!) Sure to be a fun time\; also includes appetizers from Gabe's Rinkside Bar & Grill. RSVP required\, $15 members. Thanks to event sponsor Prime Advertising.
X-ALT-DESC;FMTTYPE=text/html:<span style="font-size: 9pt"><span style="color: black"><span style="font-family: tahoma\, sans-serif">Join us at Four Seasons Curling Club at Fogerty Arena\, Blaine\, from 4:30-6pm on Tues Oct 22 &amp\; curl on their&nbsp\;Olympic-quality rink. (No experience necessary\, instruction included!) Sure to be a fun time\; also includes appetizers from Gabe&#39\;s&nbsp\;Rinkside Bar &amp\; Grill.&nbsp\;<a href="mailto:teresa@metronorthchamber.org">RSVP</a> required\, $15 members. <em><span style="font-family: tahoma\, sans-serif">Thanks to event sponsor Prime Advertising</span></em></span>.</span></span><br />\n
LOCATION:Gabe's Rinkside Bar & Grill located at Fogarty Arena 9250 Lincoln St. NE Blaine
UID:e.380.149663
SEQUENCE:3
DTSTAMP:20260424T143923Z
URL:http://members.metronorthchamber.org/events/details/curling-cocktails-after-hours-10-22-2013-149663
END:VEVENT

END:VCALENDAR
