BEGIN:VCALENDAR
VERSION:2.0
PRODID:-//ChamberMaster//Event Calendar 2.0//EN
METHOD:PUBLISH
X-PUBLISHED-TTL:P3D
REFRESH-INTERVAL:P3D
CALSCALE:GREGORIAN
BEGIN:VEVENT
DTSTART:20191213T000000Z
DTEND:20191213T020000Z
X-MICROSOFT-CDO-ALLDAYEVENT:FALSE
SUMMARY:Crystal House boutique Winter Wellness with Essential Oils Class
DESCRIPTION:Are you sick all of the time?\n\nAre your kids sick all of the time?\n\nAre you feeling sluggish\, lacking energy?\n\n\n\nLet's Talk!\n\nA super fun and informative evening helping us all beat dreaded winter illness! Giveaways and Light Refreshments!\n\n\n\nTickets are FREE!\n\n\n\nPlease register at:  www.TicketLeap.com\n\nSearch: Winter Wellness! Crystal House boutique\n\n\n\nSeating is limited and children are welcome!
X-ALT-DESC;FMTTYPE=text/html:Are you sick all of the time?<br />\nAre your kids sick all of the time?<br />\nAre you feeling sluggish\, lacking energy?<br />\n<br />\nLet&#39\;s Talk!<br />\nA super fun and informative evening helping us all beat dreaded winter illness! Giveaways and Light Refreshments!<br />\n<br />\nTickets are FREE!<br />\n<br />\nPlease register at: &nbsp\;www.TicketLeap.com<br />\nSearch: Winter Wellness! Crystal House boutique<br />\n<br />\nSeating is limited and children are welcome!
LOCATION:Crystal House boutique 455 - 99th AVE. NW Suite 230 Coon Rapids\, MN. 55433
UID:e.380.191677
SEQUENCE:3
DTSTAMP:20260419T142614Z
URL:http://members.metronorthchamber.org/events/details/crystal-house-boutique-winter-wellness-with-essential-oils-class-191677
END:VEVENT

END:VCALENDAR
