BEGIN:VCALENDAR
VERSION:2.0
PRODID:-//ChamberMaster//Event Calendar 2.0//EN
METHOD:PUBLISH
X-PUBLISHED-TTL:P3D
REFRESH-INTERVAL:P3D
CALSCALE:GREGORIAN
BEGIN:VEVENT
DTSTART;VALUE=DATE:20191001
DTEND;VALUE=DATE:20191101
TRANSP:TRANSPARENT
X-MICROSOFT-CDO-ALLDAYEVENT:TRUE
SUMMARY:Crystal House boutique - "Piecing Together A Cure" - Breast Cancer Awareness Event
DESCRIPTION:Crystal House boutique is "Piecing Together A Cure" the whole month of October\, Breast Cancer Awareness Month. Your donation of $5.00 or more will purchase a piece to our pink ribbon puzzle and enter you in our drawing for a $100.00 Crystal House boutique gift card and additional runner up prizes. Plus give you a 20% discount on one item purchased that day. Crystal House boutique will match all donations and contribute them to Susan G. Komen Minnesota. Prize drawing will be held November 1st.
X-ALT-DESC;FMTTYPE=text/html:Crystal House boutique is &quot\;Piecing Together A Cure&quot\; the whole month of October\, Breast Cancer Awareness Month. Your donation of $5.00 or more will purchase a piece to our pink ribbon puzzle and enter you in our drawing for a $100.00 Crystal House boutique gift card and additional runner up prizes. Plus give you a 20% discount on one item purchased that day. Crystal House boutique will match all donations and contribute them to Susan G. Komen Minnesota. Prize drawing will be held November 1st.
LOCATION:455 - 99th Ave. NW Suite 230 Coon Rapids\, MN. 55433
UID:e.380.191416
SEQUENCE:3
DTSTAMP:20260419T193601Z
URL:http://members.metronorthchamber.org/events/details/crystal-house-boutique-piecing-together-a-cure-breast-cancer-awareness-event-191416
END:VEVENT

END:VCALENDAR
