BEGIN:VCALENDAR
VERSION:2.0
PRODID:-//ChamberMaster//Event Calendar 2.0//EN
METHOD:PUBLISH
X-PUBLISHED-TTL:P3D
REFRESH-INTERVAL:P3D
CALSCALE:GREGORIAN
BEGIN:VEVENT
DTSTART:20191231T160000Z
DTEND:20191231T220000Z
X-MICROSOFT-CDO-ALLDAYEVENT:FALSE
SUMMARY:Crystal House boutique - One Day - Store Wide - Buy More Save More Sale!
DESCRIPTION:Out with the Old and in with the New!\n\nAt Crystal House boutique we are preparing for all the fantastic things the New Year has in store!  To make room for new arrivals we are hosting a \nOne Day Only\n\nStore Wide\n\nBuy More\, Save More Sale!\n\nTuesday\, December 31st\n\n10:00 AM - 4:00 PM\n\n\nThe more you buy\, the more you'll save! Store Wide!  Choose from a wide selection of apparel\, shoes\, accessories\, home decor\, gourmet foods and so much more!\nPurchase \n\n1 Item Save 20%\n\n2 Items Save 30%\n\n3 Items Save 40%\n\n4 Items Save 50%\n\n5 or More Items Save 60%\n\n*Buy More\, Save More promotion Does Not include Trollbeads\, Swarovski\, Young Living Products or Watkins Products.
X-ALT-DESC;FMTTYPE=text/html:Out with the Old and in with the New!<br />\nAt Crystal House boutique we are preparing for all the fantastic things the New Year has in store! &nbsp\;To make room for new arrivals we are hosting a&nbsp\;\n<div style="text-align:center"><span style="color:#EE82EE"><span style="font-size:20px"><span style="font-family:comic sans ms"><strong>One Day Only<br />\nStore Wide<br />\nBuy More\, Save More Sale!</strong></span></span></span></div>\n\n<div style="text-align:center"><span style="color:#EE82EE"><span style="font-size:20px"><span style="font-family:comic sans ms"><strong>Tuesday\, December 31st<br />\n10:00 AM - 4:00 PM</strong></span></span></span></div>\n<br />\nThe more you buy\, the more you&#39\;ll save! Store Wide! &nbsp\;Choose from a wide selection of apparel\, shoes\, accessories\, home decor\, gourmet foods and so much more!\n<div style="text-align:center"><span style="color:#EE82EE"><strong><span style="font-family:comic sans ms"><span style="font-size:20px">Purchase&nbsp\;<br />\n1 Item Save 20%<br />\n2 Items Save 30%<br />\n3 Items Save 40%<br />\n4 Items Save 50%<br />\n5 or More Items Save 60%</span></span></strong></span></div>\n\n<div style="text-align:center"><span style="font-size:9px">*Buy More\, Save More promotion <strong>Does Not </strong>include Trollbeads\, Swarovski\, Young Living Products or Watkins Products.</span></div>\n
LOCATION:Crystal House boutique 455 - 99th Ave. NW Suite 230 Coon Rapids\, MN. 55433
UID:e.380.191801
SEQUENCE:3
DTSTAMP:20260419T142913Z
URL:http://members.metronorthchamber.org/events/details/crystal-house-boutique-one-day-store-wide-buy-more-save-more-sale-191801
END:VEVENT

END:VCALENDAR
