BEGIN:VCALENDAR
VERSION:2.0
PRODID:-//ChamberMaster//Event Calendar 2.0//EN
METHOD:PUBLISH
X-PUBLISHED-TTL:P3D
REFRESH-INTERVAL:P3D
CALSCALE:GREGORIAN
BEGIN:VEVENT
DTSTART;VALUE=DATE:20190614
DTEND;VALUE=DATE:20190615
TRANSP:TRANSPARENT
X-MICROSOFT-CDO-ALLDAYEVENT:TRUE
SUMMARY:Crystal House boutique Evening of Fashion - June 14th
DESCRIPTION:Ladies! Grab your friends and join us for a glamorous night out!\n\n\n\nA Ladies Night Out!!\n\n\n\nCrystal House boutiques Evening of Fashion features a Twilight Style Show at 6:00 PM. Reserve the date of Friday\, June 14th!  Arrive early to shop\, snack or just mingle!  We will offer 30% off sales\, a mimosa bar and hors d'oeuvres.\n\n\n\nNo dress code is required but feel free to glam yourself up!\n\n\n\nRSVP appreciated but not required. Be one of the first 50 to RSVP and receive a FREE Swag Bag at the show!\n\n\n\nRSVP by phoning our store 763-786-1830 OR message us on Facebook or Instagram!
X-ALT-DESC;FMTTYPE=text/html:Ladies! Grab your friends and join us for a glamorous night out!<br />\n<br />\nA Ladies Night Out!!<br />\n<br />\nCrystal House boutiques Evening of Fashion features a Twilight Style Show at 6:00 PM. Reserve the date of Friday\, June 14th! &nbsp\;Arrive early to shop\, snack or just mingle! &nbsp\;We will offer 30% off sales\, a mimosa bar and hors d&#39\;oeuvres.<br />\n<br />\nNo dress code is required but feel free to glam yourself up!<br />\n<br />\nRSVP appreciated but not required. Be one of the first 50 to RSVP and receive a FREE Swag Bag at the show!<br />\n<br />\nRSVP by phoning our store 763-786-1830 OR message us on Facebook or Instagram!
LOCATION:455 - 99th Ave. NW Suite 230 Coon Rapids\, MN. 55433
UID:e.380.189293
SEQUENCE:3
DTSTAMP:20260420T003144Z
URL:http://members.metronorthchamber.org/events/details/crystal-house-boutique-evening-of-fashion-june-14th-189293
END:VEVENT

END:VCALENDAR
