BEGIN:VCALENDAR
VERSION:2.0
PRODID:-//ChamberMaster//Event Calendar 2.0//EN
METHOD:PUBLISH
X-PUBLISHED-TTL:P3D
REFRESH-INTERVAL:P3D
CALSCALE:GREGORIAN
BEGIN:VEVENT
DTSTART:20191124T180000Z
DTEND:20191124T220000Z
X-MICROSOFT-CDO-ALLDAYEVENT:FALSE
SUMMARY:Crystal House Boutique Dress & Decorate
DESCRIPTION:A Holiday Style Event for You and Your Home! \n\n\n\nFind the perfect look for all your holiday parties at our FREE Holiday Fashion Show! Get ideas for decorating your home like the pros with our "Top 5 TIp's & Tricks to Holiday Displays." Enjoy delicious Irish Coffee or Hot Chocolate and start your holiday shopping off right with 20% off all apparel and home decor!\n\n\n\nEvent is FREE but please register to attend at: www.TicketLeap.com search for Crystal House boutique Dress & Decorate. Seating is limited.
X-ALT-DESC;FMTTYPE=text/html:A Holiday Style Event for You and Your Home!&nbsp\;<br />\n<br />\nFind the perfect look for all your holiday parties at our FREE Holiday Fashion Show! Get ideas for decorating your home like the pros with our &quot\;Top 5 TIp&#39\;s &amp\; Tricks to Holiday Displays.&quot\; Enjoy delicious Irish Coffee or Hot Chocolate and start your holiday shopping off right with 20% off all apparel and home decor!<br />\n<br />\nEvent is FREE but please register to attend at: www.TicketLeap.com search for Crystal House boutique Dress &amp\; Decorate. Seating is limited.
LOCATION:Crystal House boutique 455 - 99th Ave. NW Suite 230 Coon Rapids\, MN. 55433
UID:e.380.191676
SEQUENCE:3
DTSTAMP:20260419T180908Z
URL:http://members.metronorthchamber.org/events/details/crystal-house-boutique-dress-decorate-191676
END:VEVENT

END:VCALENDAR
