BEGIN:VCALENDAR
VERSION:2.0
PRODID:-//ChamberMaster//Event Calendar 2.0//EN
METHOD:PUBLISH
X-PUBLISHED-TTL:P3D
REFRESH-INTERVAL:P3D
CALSCALE:GREGORIAN
BEGIN:VEVENT
DTSTART;VALUE=DATE:20190424
DTEND;VALUE=DATE:20190428
TRANSP:TRANSPARENT
X-MICROSOFT-CDO-ALLDAYEVENT:TRUE
SUMMARY:Crystal House boutique 15th Anniversary and Grand Reopening
DESCRIPTION:After month long renovations brought on by the effects of a brutal Minnesota February we are celebrating our Grand Reopening and 15th year in business! Join us for four days of celebration!\n\n\n\nWednesday - April 24th: Take an extra 15% off already reduced clearance items!\n\nThursday - April 25th: Receive a $15 giftcard with every $100 in purchases!\n\nFriday - April 26th: Receive $15 off any purchase of $50! \n\n             MetroNorth Chamber Ribbon Cutting Ceremony with Refreshments at 11:00 AM.\n\nSaturday - April 27th: 15% off Storewide All Day Long!\n\n             Music\, Cake\, Giveaways and More 1:00 PM to 3:00 PM
X-ALT-DESC;FMTTYPE=text/html:After month long renovations brought on by the effects of a brutal Minnesota February we are celebrating our Grand Reopening and 15th year in business! Join us for four days of celebration!<br />\n<br />\nWednesday - April 24th: Take an extra 15% off already reduced clearance items!<br />\nThursday - April 25th: Receive a $15 giftcard with every $100 in purchases!<br />\nFriday - April 26th: Receive $15 off any purchase of $50!&nbsp\;<br />\n&nbsp\;&nbsp\;&nbsp\;&nbsp\;&nbsp\;&nbsp\;&nbsp\;&nbsp\;&nbsp\;&nbsp\;&nbsp\;&nbsp\;&nbsp\;MetroNorth Chamber Ribbon Cutting Ceremony with Refreshments at 11:00 AM.<br />\nSaturday - April 27th: 15% off Storewide All Day Long!<br />\n&nbsp\;&nbsp\;&nbsp\;&nbsp\;&nbsp\;&nbsp\;&nbsp\;&nbsp\;&nbsp\;&nbsp\;&nbsp\;&nbsp\;&nbsp\;Music\, Cake\, Giveaways and More 1:00 PM to 3:00 PM
LOCATION:Crystal House boutique 455 99th Ave. NW Suite 230 Coon Rapids\, MN. 55433
UID:e.380.188928
SEQUENCE:3
DTSTAMP:20260420T041726Z
URL:http://members.metronorthchamber.org/events/details/crystal-house-boutique-15th-anniversary-and-grand-reopening-188928
END:VEVENT

END:VCALENDAR
