BEGIN:VCALENDAR
VERSION:2.0
PRODID:-//ChamberMaster//Event Calendar 2.0//EN
METHOD:PUBLISH
X-PUBLISHED-TTL:P3D
REFRESH-INTERVAL:P3D
CALSCALE:GREGORIAN
BEGIN:VEVENT
DTSTART:20191219T160000Z
DTEND:20191224T180000Z
X-MICROSOFT-CDO-ALLDAYEVENT:FALSE
SUMMARY:Crystal House Boutique - 12 Days of Christmas Sales
DESCRIPTION:We are counting down the days before Christmas with a daily discount or sale! With just six days remaining in our twelve day event there is still time to participate.\n\n\n\nThursday - December 19th - Trollbeads Holiday - Buy one Trollbead and get the second bead 50% off.\n\nFriday - December 20th - Festive Feet Friday - 40% off footwear.  Plus\, meet our Swarovski Rep and receive a gift         from Swarovski with qualifying purchase.\n\nSaturday - December 21st - Let us treat you\, our loyal customers\, to 20% off one item and FREE gift wrap from 2-6 PM.\n\nSunday - December 22nd - Receive a FREE $10 gift card with every $50 gift card purchase.\n\nMonday - December 23rd - Spin our Winter Wonderland Wheel of Christmas for a discount or gift with purchase.\n\nTuesday - December 24th - 50% off storewide 8 A.M. until Noon. Some exclusions apply.
X-ALT-DESC;FMTTYPE=text/html:We are counting down the days before Christmas with a daily discount or sale! With just six days remaining in our twelve day event there is still time to participate.<br />\n<br />\n<strong>Thursday - December 19th</strong> - Trollbeads Holiday - Buy one Trollbead and get the second bead 50% off.<br />\n<strong>Friday - December 20th</strong> - Festive Feet Friday - 40% off footwear. &nbsp\;Plus\, meet our Swarovski Rep and receive a gift &nbsp\;&nbsp\;&nbsp\;&nbsp\;&nbsp\;&nbsp\;&nbsp\;&nbsp\;from Swarovski with qualifying purchase.<br />\n<strong>Saturday - December 21st</strong> - Let us treat you\, our loyal customers\, to 20% off one item and FREE gift wrap from 2-6 PM.<br />\n<strong>Sunday - December 22nd </strong>- Receive a FREE $10 gift card with every $50 gift card purchase.<br />\n<strong>Monday - December 23rd</strong> - Spin our Winter Wonderland Wheel of Christmas for a discount or gift with purchase.<br />\n<strong>Tuesday - December 24th </strong>- 50% off storewide 8 A.M. until Noon. Some exclusions apply.<br />\n&nbsp\;
LOCATION:455 99th Ave. NW Suite 230 Coon Rapids\, MN. 55433
UID:e.380.191796
SEQUENCE:3
DTSTAMP:20260419T142950Z
URL:http://members.metronorthchamber.org/events/details/crystal-house-boutique-12-days-of-christmas-sales-191796
END:VEVENT

END:VCALENDAR
