BEGIN:VCALENDAR
VERSION:2.0
PRODID:-//ChamberMaster//Event Calendar 2.0//EN
METHOD:PUBLISH
X-PUBLISHED-TTL:P3D
REFRESH-INTERVAL:P3D
CALSCALE:GREGORIAN
BEGIN:VEVENT
DTSTART:20120329T224500Z
DTEND:20120330T014500Z
X-MICROSOFT-CDO-ALLDAYEVENT:FALSE
SUMMARY:Couponing 101 at Rasmussen College
DESCRIPTION:Rasmussen College\, Blaine Campus Presents Couponing 101 in Collaboration with Creativecouponing.com!\n\n\n\nThis class is filled with information on how to...\n\n	\n		Lower your Grocery Bill\n	\n		Find Coupons\n	\n		Organize Coupons\n	\n		Understand Deals\n\n\n\nThe cost is only $10 and includes a light supper.\n\n\n\nDiscover the secrets to saving money and time when shopping for you and your family!
X-ALT-DESC;FMTTYPE=text/html:<br />\nRasmussen College\, Blaine Campus Presents Couponing 101 in Collaboration with Creativecouponing.com!<br />\n<br />\nThis class is filled with information on how to...\n<ul>\n	<li>\n		Lower your Grocery Bill</li>\n	<li>\n		Find Coupons</li>\n	<li>\n		Organize Coupons</li>\n	<li>\n		Understand Deals</li>\n</ul>\n<br />\nThe cost is only $10 and includes a light supper.<br />\n<br />\nDiscover the secrets to saving money and time when shopping for you and your family!
LOCATION:Rasmussen College\, Blaine Campus 3629 95th Ave NE
UID:e.380.143505
SEQUENCE:3
DTSTAMP:20260425T211049Z
URL:http://members.metronorthchamber.org/events/details/couponing-101-at-rasmussen-college-03-29-2012-143505
END:VEVENT

END:VCALENDAR
