BEGIN:VCALENDAR
VERSION:2.0
PRODID:-//ChamberMaster//Event Calendar 2.0//EN
METHOD:PUBLISH
X-PUBLISHED-TTL:P3D
REFRESH-INTERVAL:P3D
CALSCALE:GREGORIAN
BEGIN:VEVENT
DTSTART:20170526T230000Z
DTEND:20170527T030000Z
X-MICROSOFT-CDO-ALLDAYEVENT:FALSE
SUMMARY:Country Night
DESCRIPTION:Featuring country music and a country activity
X-ALT-DESC;FMTTYPE=text/html:Featuring country music and a country activity
LOCATION:Glow in One Mini Golf 12579 Central Ave NE Blaine\, MN 55449
UID:e.380.173378
SEQUENCE:3
DTSTAMP:20260421T170354Z
URL:http://members.metronorthchamber.org/events/details/country-night-173378
END:VEVENT

END:VCALENDAR
