BEGIN:VCALENDAR
VERSION:2.0
PRODID:-//ChamberMaster//Event Calendar 2.0//EN
METHOD:PUBLISH
X-PUBLISHED-TTL:P3D
REFRESH-INTERVAL:P3D
CALSCALE:GREGORIAN
BEGIN:VEVENT
DTSTART:20141202T223000Z
DTEND:20141203T000000Z
X-MICROSOFT-CDO-ALLDAYEVENT:FALSE
SUMMARY:CorTrust Bank After Hours & Ribbon Cutting
DESCRIPTION:CorTrust Bank is hosting a members-only after-hours & ribbon cutting. Join us for drinks\, food\, & conversation!
X-ALT-DESC;FMTTYPE=text/html:CorTrust Bank is hosting a members-only after-hours &amp\; ribbon cutting. Join us for drinks\, food\, &amp\; conversation! &nbsp\;&nbsp\;
LOCATION:10107 NE University Ave. Blaine MN
UID:e.380.151705
SEQUENCE:3
DTSTAMP:20260423T161728Z
URL:http://members.metronorthchamber.org/events/details/cortrust-bank-after-hours-ribbon-cutting-12-02-2014-151705
END:VEVENT

END:VCALENDAR
