BEGIN:VCALENDAR
VERSION:2.0
PRODID:-//ChamberMaster//Event Calendar 2.0//EN
METHOD:PUBLISH
X-PUBLISHED-TTL:P3D
REFRESH-INTERVAL:P3D
CALSCALE:GREGORIAN
BEGIN:VEVENT
DTSTART:20151008T160000Z
DTEND:20151008T193000Z
X-MICROSOFT-CDO-ALLDAYEVENT:FALSE
SUMMARY:Corportate Travel Open House from Travel Leaders
DESCRIPTION:Travel Leaders Corporate Travel Management Expo!\n\n \n\nLearn how Travel Leaders along with Sun Country Airlines\, National Car Rental\, Travel Guard insurance and TSA can help your company save time\, money and allow you to sleep better knowing we are taking care of your travelers!\n\n\n\nTo RSVP please fill in this form and we look forward to speaking to you about your corporate travel needs\n\nhttp://form.jotformpro.com/form/52588645059973
X-ALT-DESC;FMTTYPE=text/html:<p>&nbsp\;</p>\n\n<p><em><strong>Travel Leaders Corporate Travel Management Expo!</strong></em></p>\n\n<p>&nbsp\;</p>\n\n<p>Learn how Travel Leaders along with Sun Country Airlines\, National Car Rental\, Travel Guard insurance&nbsp\;and TSA can help your company&nbsp\;save time\, money and allow you to sleep better knowing we are taking care of your travelers!</p>\n\n<p><br />\nTo RSVP please fill in this form and we look forward to speaking to you about your corporate travel needs<br />\n<a href="http://form.jotformpro.com/form/52588645059973"><span style="color:red\; font-size:10.5pt">http://form.jotformpro.com/form/52588645059973</span></a></p>\n\n<p><br />\n<br />\n&nbsp\;</p>\n
LOCATION:Sheraton Bloomington 5601 West 78th Street Sheraton Bloomington 5601 West 78th St.Minneapolis\, MN 55439
UID:e.380.159609
SEQUENCE:3
DTSTAMP:20260422T235025Z
URL:http://members.metronorthchamber.org/events/details/corportate-travel-open-house-from-travel-leaders-10-08-2015-159609
END:VEVENT

END:VCALENDAR
