BEGIN:VCALENDAR
VERSION:2.0
PRODID:-//ChamberMaster//Event Calendar 2.0//EN
METHOD:PUBLISH
X-PUBLISHED-TTL:P3D
REFRESH-INTERVAL:P3D
CALSCALE:GREGORIAN
BEGIN:VEVENT
DTSTART:20150909T160000Z
DTEND:20150909T220000Z
X-MICROSOFT-CDO-ALLDAYEVENT:FALSE
SUMMARY:Corporate Holiday Showcase
DESCRIPTION:Come visit our showroom for holiday gift ideas for your clients\, customers\, and employees. We'll have samples and experts on hand. This is an open huose - feel free to bring others!
X-ALT-DESC;FMTTYPE=text/html:Come visit our showroom for holiday gift ideas for your clients\, customers\, and employees. We&#39\;ll have samples and experts on hand. This is an open huose - feel free to bring others!
LOCATION:Viking Trophies 6248 Lakeland Ave N. Ste 102 Brooklyn Park\, MN 55428
UID:e.380.158525
SEQUENCE:3
DTSTAMP:20260423T030059Z
URL:http://members.metronorthchamber.org/events/details/corporate-holiday-showcase-09-09-2015-158525
END:VEVENT

END:VCALENDAR
