BEGIN:VCALENDAR
VERSION:2.0
PRODID:-//ChamberMaster//Event Calendar 2.0//EN
METHOD:PUBLISH
X-PUBLISHED-TTL:P3D
REFRESH-INTERVAL:P3D
CALSCALE:GREGORIAN
BEGIN:VEVENT
DTSTART:20141031T140000Z
DTEND:20141031T200000Z
X-MICROSOFT-CDO-ALLDAYEVENT:FALSE
SUMMARY:Core Success- Emotional Intelligence 2.0
DESCRIPTION:Core Success:\n\nDiscover your Emotional Intelligence and increase your E.Q.\n\n\n\nAttend this powerful class to: \n\n\n\n	\n	Learn what emotions trigger you to fail and how to overcome them\n	\n	\n	Discover the root of your behaviors and how to create a life of destiny\n	\n	\n	Develop dynamic confidence that will allow you to leave FEAR behind\n	\n	\n	Gain advanced skills to impact you immediately and permanently\n	\n	\n	Learn to handle the most painful situations with success\n	\n	\n	Get practical tools to significantly improve your emotional intelligence
X-ALT-DESC;FMTTYPE=text/html:<strong><span style="text-decoration: underline\;"><span style="font-size: 16px\;">Core Success:<br />\nDiscover your Emotional Intelligence and increase your E.Q.</span></span><br />\n<br />\n<span style="font-size: 14px\;"><span style="color: rgb(165\, 42\, 42)\;">Attend this powerful class to:&nbsp\;</span></span></strong>\n\n<div>\n<ul>\n	<li style="padding: 0px\; text-align: left\; color: rgb(0\, 0\, 0)\; font-family: Verdana\;">\n	<h4><strong><span style="color: rgb(178\, 34\, 34)\;"><span style="font-family: verdana\, arial\, helvetica\, sans-serif\; font-size: 9pt\;">Learn what emotions trigger you to fail and how to overcome them</span></span></strong></h4>\n	</li>\n	<li style="padding: 0px\; text-align: left\; color: rgb(0\, 0\, 0)\; font-family: Verdana\;">\n	<h4><strong><span style="color: rgb(178\, 34\, 34)\;">Discover the root of your behaviors and how to create a life of destiny</span></strong></h4>\n	</li>\n	<li style="padding: 0px\; text-align: left\; color: rgb(0\, 0\, 0)\; font-family: Verdana\;">\n	<h4><strong><span style="color: rgb(178\, 34\, 34)\;"><span style="font-family: verdana\;">Develop dynamic confidence that will allow you to leave FEAR behind</span></span></strong></h4>\n	</li>\n	<li style="padding: 0px\; text-align: left\; color: rgb(0\, 0\, 0)\; font-family: Verdana\;">\n	<h4><strong><span style="color: rgb(178\, 34\, 34)\;">Gain advanced skills to impact you immediately and permanently</span></strong></h4>\n	</li>\n	<li style="padding: 0px\; text-align: left\; color: rgb(0\, 0\, 0)\; font-family: Verdana\;">\n	<h4><strong><span style="color: rgb(178\, 34\, 34)\;">Learn to handle the most painful situations with success</span></strong></h4>\n	</li>\n	<li style="padding: 0px\; text-align: left\; color: rgb(0\, 0\, 0)\; font-family: Verdana\;">\n	<h4><strong><span style="color: rgb(178\, 34\, 34)\;">Get practical tools to significantly improve your emotional intelligence</span></strong></h4>\n	</li>\n</ul>\n\n<p style="margin: 0px\; padding: 0px 0px 15px\; text-align: center\; color: rgb(0\, 0\, 0)\; font-family: Arial\, Helvetica\, sans-serif\; font-size: 14px\; background-color: transparent\;">&nbsp\;</p>\n</div>\n
LOCATION:Rasmussen Business College 3629 95th Ave NE Blaine\, MN 55014
UID:e.380.151678
SEQUENCE:3
DTSTAMP:20260423T192026Z
URL:http://members.metronorthchamber.org/events/details/core-success-emotional-intelligence-2-0-10-31-2014-151678
END:VEVENT

END:VCALENDAR
