BEGIN:VCALENDAR
VERSION:2.0
PRODID:-//ChamberMaster//Event Calendar 2.0//EN
METHOD:PUBLISH
X-PUBLISHED-TTL:P3D
REFRESH-INTERVAL:P3D
CALSCALE:GREGORIAN
BEGIN:VEVENT
DTSTART:20140912T180000Z
DTEND:20140913T000000Z
X-MICROSOFT-CDO-ALLDAYEVENT:FALSE
SUMMARY:Coon Rapids Service Annual Open House Customer Apprecition Day
DESCRIPTION:Our annual open house party is fast approaching. FREE food\, games and door prizes. Lots of food\, a bouncy house for the kids\, and a great time for everyone. This year we have added front row parking if you bring your classic/custom car!
X-ALT-DESC;FMTTYPE=text/html:<span class="fsl">Our annual open house party is fast approaching. FREE food\, games and door prizes. Lots of food\, a bouncy house for the kids\, and a great time for everyone. This year we have added front row parking if you bring your classic/custom car!</span>
LOCATION:Coon Rapids Service\, Inc. 2600 Coon Rapids Blvd NW Coon Rapids\, Minnesota 55433
UID:e.380.151586
SEQUENCE:3
DTSTAMP:20260423T205829Z
URL:http://members.metronorthchamber.org/events/details/coon-rapids-service-annual-open-house-customer-apprecition-day-09-12-2014-151586
END:VEVENT

END:VCALENDAR
