BEGIN:VCALENDAR
VERSION:2.0
PRODID:-//ChamberMaster//Event Calendar 2.0//EN
METHOD:PUBLISH
X-PUBLISHED-TTL:P3D
REFRESH-INTERVAL:P3D
CALSCALE:GREGORIAN
BEGIN:VEVENT
DTSTART:20120321T233000Z
DTEND:20120322T013000Z
X-MICROSOFT-CDO-ALLDAYEVENT:FALSE
SUMMARY:Coon Rapids Minnesota - Community Meetings
DESCRIPTION:Coon Rapids\, Minnesota\n\nCOMMUNITY MEETINGS\n\n \n\nShare your ideas on community goals\, values and the city's future \n\n \n\n \n\nThe Community Meetings are an opportunity to provide valuable input and ideas to city leaders about the future direction of Coon Rapids.  Residents will have a chance to talk about a variety of topics ranging from transportation to future building projects.  City leaders want to understand how residents feel about their community\, and the goals they have for the future.\n\n \n\n \n\nCoon Rapids residents are invited to attend any one of the Community Meetings.  \n\n \n\nFor more information please visit:\n\n \n\nhttp://www.coonrapidsmn.gov/GeneralInfo/CommunityMeetingsl.htm
X-ALT-DESC;FMTTYPE=text/html:<em><strong><span style="font-size: 16pt"><span style="font-family: trebuchet ms">Coon Rapids\, Minnesota<br />\nCOMMUNITY MEETINGS</span></span></strong></em><br />\n&nbsp\;<br />\n<em><strong><span style="font-size: 13pt"><span style="font-family: trebuchet ms">Share your ideas on community goals\, values and the city&rsquo\;s future </span></span></strong></em><br />\n&nbsp\;<br />\n&nbsp\;<br />\n<span style="font-size: 11pt"><span style="font-family: trebuchet ms">The Community Meetings are an opportunity to provide valuable input and ideas to city leaders about the future direction of Coon Rapids.&nbsp\; Residents will have a chance to talk about a variety of topics ranging from transportation to future building projects.&nbsp\; City leaders want to understand how residents feel about their community\, and the goals they have for the future.</span></span><br />\n&nbsp\;<br />\n&nbsp\;<br />\n<span style="font-size: 11pt"><span style="font-family: trebuchet ms">Coon Rapids residents are invited to attend any one of the Community Meetings.&nbsp\;</span></span>&nbsp\;<br />\n&nbsp\;<br />\n<strong><span style="font-size: 13.5pt"><span style="font-family: times new roman">For more information please visit:</span></span></strong><br />\n&nbsp\;<br />\n<a href="http://www.coonrapidsmn.gov/GeneralInfo/CommunityMeetingsl.htm"><strong><span style="font-size: 13.5pt"><span style="font-family: times new roman">http://www.coonrapidsmn.gov/GeneralInfo/CommunityMeetingsl.htm</span></span></strong></a><br />\n&nbsp\;<br />\n&nbsp\;&nbsp\;&nbsp\;<br />\n&nbsp\;<br />\n&nbsp\;&nbsp\;&nbsp\;<br />\n
LOCATION:Coon Rapids Ice Center\, 11000 Crooked Lake Blvd.\, Coon Rapids\, MN
UID:e.380.143485
SEQUENCE:3
DTSTAMP:20260425T211013Z
URL:http://members.metronorthchamber.org/events/details/coon-rapids-minnesota-community-meetings-03-21-2012-143485
END:VEVENT

END:VCALENDAR
