BEGIN:VCALENDAR
VERSION:2.0
PRODID:-//ChamberMaster//Event Calendar 2.0//EN
METHOD:PUBLISH
X-PUBLISHED-TTL:P3D
REFRESH-INTERVAL:P3D
CALSCALE:GREGORIAN
BEGIN:VEVENT
DTSTART:20120315T233000Z
DTEND:20120316T013000Z
X-MICROSOFT-CDO-ALLDAYEVENT:FALSE
SUMMARY:Coon Rapids Minnesota - Community Meetings
DESCRIPTION:COMMUNITY MEETINGS\n\n \n\nShare your ideas on community goals\, values and the city's future \n\n \n\n \n\nThe Community Meetings are an opportunity to provide valuable input and ideas to city leaders about the future direction of Coon Rapids.  Residents will have a chance to talk about a variety of topics ranging from transportation to future building projects.  City leaders want to understand how residents feel about their community\, and the goals they have for the future.\n\n \n\n \n\nCoon Rapids residents are invited to attend any one of the Community Meetings.
X-ALT-DESC;FMTTYPE=text/html:<em><strong><span style="font-size: 16pt"><span style="font-family: trebuchet ms">COMMUNITY MEETINGS</span></span></strong></em><br />\n&nbsp\;<br />\n<em><strong><span style="font-size: 13pt"><span style="font-family: trebuchet ms">Share your ideas on community goals\, values and the city&rsquo\;s future </span></span></strong></em><br />\n&nbsp\;<br />\n&nbsp\;<br />\n<span style="font-size: 11pt"><span style="font-family: trebuchet ms">The Community Meetings are an opportunity to provide valuable input and ideas to city leaders about the future direction of Coon Rapids.&nbsp\; Residents will have a chance to talk about a variety of topics ranging from transportation to future building projects.&nbsp\; City leaders want to understand how residents feel about their community\, and the goals they have for the future.</span></span><br />\n&nbsp\;<br />\n&nbsp\;<br />\n<span style="font-size: 11pt"><span style="font-family: trebuchet ms">Coon Rapids residents are invited to attend any one of the Community Meetings.&nbsp\;</span></span>
LOCATION:The Harvest Grill at Bunker Hills Golf Club\, 12800 Bunker Prairie Drive\, Coon Rapids\, MN
UID:e.380.143484
SEQUENCE:3
DTSTAMP:20260425T210937Z
URL:http://members.metronorthchamber.org/events/details/coon-rapids-minnesota-community-meetings-03-15-2012-143484
END:VEVENT

END:VCALENDAR
