BEGIN:VCALENDAR
VERSION:2.0
PRODID:-//ChamberMaster//Event Calendar 2.0//EN
METHOD:PUBLISH
X-PUBLISHED-TTL:P3D
REFRESH-INTERVAL:P3D
CALSCALE:GREGORIAN
BEGIN:VEVENT
DTSTART:20120818T000000Z
DTEND:20120818T040000Z
X-MICROSOFT-CDO-ALLDAYEVENT:FALSE
SUMMARY:Coon Rapids Community Night with the MN Lynx
DESCRIPTION:The City of Coon Rapids Employee Fun Committee has arranged for a Coon Rapids Community Night with the MN Lynx on Friday\, August 17.\n\n\n\nClick here for more information.
X-ALT-DESC;FMTTYPE=text/html:<span style="font-size:11px\;">The City of Coon Rapids Employee Fun Committee has arranged for a Coon Rapids Community Night with the MN Lynx on Friday\, August 17.<br />\n<br />\nClick <a href="http://www.coonrapidsmn.gov/Pdf/LynxCoonRapidsTicketpass.pdf">here</a> for more information.</span>
LOCATION:
UID:e.380.145966
SEQUENCE:3
DTSTAMP:20260425T125530Z
URL:http://members.metronorthchamber.org/events/details/coon-rapids-community-night-with-the-mn-lynx-08-17-2012-145966
END:VEVENT

END:VCALENDAR
