BEGIN:VCALENDAR
VERSION:2.0
PRODID:-//ChamberMaster//Event Calendar 2.0//EN
METHOD:PUBLISH
X-PUBLISHED-TTL:P3D
REFRESH-INTERVAL:P3D
CALSCALE:GREGORIAN
BEGIN:VEVENT
DTSTART:20181003T233000Z
DTEND:20181004T003000Z
X-MICROSOFT-CDO-ALLDAYEVENT:FALSE
SUMMARY:Coon Rapids Candidate Forum (HD 36A\, 36B)
DESCRIPTION:The North Metro Mayors Association is hosting legislative candidate forums in eight North Metro cities. NMMA will partner with local chambers of commerce\, Anoka Area\, MetroNorth\, Twin Cities North\, and TwinWest\, along with other community partners\, to put a spotlight on transportation\, economic development and other issues important to the region.\n\n\n\nThe forums are open to the public. They will be taped and aired on local cable stations. In addition to having the opportunity to meet the different candidates\, attendees also will be able to submit questions to the moderator to be answered by the candidates.\n\n\n\nThe North Metro Mayors Association represents nearly a half million residents in the northern suburbs of Minneapolis and St. Paul\, and it brings a unique voice to the state capital\, according to Kathi Hemken\, mayor of New Hope and president of the North Metro Mayors Association.\n\n \n\n"Our goal with the forums is to connect with policy makers and demonstrate that our communities face unique challenges\," said Hemken.  "We encourage our representatives to work together to address a wide range of issues that impact the North Metro area."\n\n \n\nVisit www.NorthMetroMayors.org for more information.
X-ALT-DESC;FMTTYPE=text/html:The&nbsp\;<a href="http://northmetromayors.org/">North Metro Mayors Association</a>&nbsp\;is hosting legislative candidate forums in eight North Metro cities. NMMA will partner with local chambers of commerce\, Anoka Area\, MetroNorth\, Twin Cities North\, and TwinWest\, along with other community partners\, to put a spotlight on transportation\, economic development and other issues important to the region.<br />\n<br />\nThe forums are open to the public. They will be taped and aired on local cable stations. In addition to having the opportunity to meet the different candidates\, attendees also will be able to submit questions to the moderator to be answered by the candidates.<br />\n<br />\nThe North Metro Mayors Association represents nearly a half million residents in the northern suburbs of Minneapolis and St. Paul\, and it brings a unique voice to the state capital\, according to Kathi Hemken\, mayor of New Hope and president of the North Metro Mayors Association.<br />\n&nbsp\;<br />\n&ldquo\;Our goal with the forums is to connect with policy makers and demonstrate that our communities face unique challenges\,&rdquo\; said Hemken. &nbsp\;&ldquo\;We encourage our representatives to work together to address a wide range of issues that impact the North Metro area.&rdquo\;<br />\n&nbsp\;<br />\nVisit&nbsp\;<a href="http://www.northmetromayors.org/">www.NorthMetroMayors.org</a>&nbsp\;for more information.
LOCATION:Coon Rapids City Hall 11155 Robinson Dr Coon Rapids\, MN 55433
UID:e.380.186943
SEQUENCE:3
DTSTAMP:20260420T135044Z
URL:http://members.metronorthchamber.org/events/details/coon-rapids-candidate-forum-hd-36a-36b-186943
END:VEVENT

END:VCALENDAR
